Workbook

Sheet วิธีจัดซื้อจัดจ้าง
A1: รายงานสรุปผลการจัดซื้อจัดจ้างของ องค์การบริหารส่วนตำบลบิง
A2: ประจำปีงบประมาณ พ.ศ.2568
B3: สรุปรายการจัดซื้อจัดจ้างจำแนกตามวิธีการจัดซื้อจัดจ้าง
B5: วิธีการจัดซื้อจัดจ้าง | C5: จำนวน | D5: งบประมาณ (บาท)
B6: วิธีประกาศเชิญชวนทั่วไป | C6: - | D6: -
B7: วิธีคัดเลือก | C7: - | D7: -
B8: วิธีเฉพาะเจาะจง (โครงการฯ) | C8: 38 | D8: 14641442
B9: วิธีเฉพาะเจาะจง | C9: 153 | D9: 1669119.5
B10: วิธีประกวดแบบ | C10: - | D10: -
B11: อื่น ๆ | C11: - | D11: -
B12: รวม | C12: =SUM(C6:C11) -> 191 | D12: =SUM(D6:D11) -> 16310561
A14: ปัญหา/อุปสรรค
A15: 1.ระบบจัดซื้อจัดจ้างภาครัฐด้วยอิเล็กทรอนิกส์ (ระบบ e-GP) ขัดข้อง ส่งผลทำให้ไม่สามารถเข้าใช้งานระบบ
A16: จัดซื้อจัดจ้างได้ตามกำหนดเวลา
A17: 2.การจัดซื้อจัดจ้างในช่วงสิ้นปีงบประมาณ มีการโอนเปลี่ยนแปลงงบประมาณและเร่งรัดการการใช้เงิน
A18: 3.ผู้รับจ้างส่งสินค้าไม่ตรงตาม TOR ส่งผลให้มีการเปลี่ยนแปลงสินค้าไปมา ก่อให้เกิดความล่าช้าและจำเป็น
A19: ต้องปรับตามเงื่อนไขของสัญญา
A20: ข้อเสนอแนะ
A21: 1.มีการเตรียมความพร้อมในการดำเนินการจัดซื้อจัดจ้างในการจัดทำขอบเขตงาน TOR หรือรายละเอียด
A22: คุณลักษณะเฉพาะพัสดุด้วยความรอบคอบเพื่อให้การดำเนินงานถูกต้องครบถ้วน เป็นไปตามระเบียบที่
A23: เกี่ยวข้องสามารถก่อหนี้ผูกพันและเบิกจ่ายได้ทันภายในปีงบประมาณ
A24: 2.เร่งรัดการดำเนินงาน โดยแจ้งให้ผู้มีหน้าที่รับผิดชอบหรือเกี่ยวข้องด้านการจัดซื้อจัดจ้างเร่งดำเนินการ
A25: เพื่อให้เป็นไปตามแผนที่กำหนด

Sheet แยกรายเดือน
A1: สรุปรายงานผลการจัดซื้อจัดจ้าง ประจำปีงบประมาณ พ.ศ. 2568
A2: (แยกรายเดือน)
A3: ตาราง แสดงวงเงินการจัดซื้อจัดจ้าง
A4: เดือน | B4: เฉพาะเจาะจง | C4: คัดเลือก | D4: e-bidding | E4: รวม (บาท) | H4: เงินงบประมาณโครงการ
A5: ต.ค 67 | B5: =SUM(รายการจัดซื้อจัดจ้างปีงบ2568!I7:I11) -> 103540.63 | C5: - | D5: - | E5: =SUM(B5:D5) -> 103540.63 | H5: -
A6: พ.ย 67 | B6: =SUM(รายการจัดซื้อจัดจ้างปีงบ2568!I18:I35) -> 745661.61 | C6: - | D6: - | E6: =SUM(B6:D6) -> 745661.61 | H6: 474000 | I6: =E6-H6 -> 271661.61
A7: ธ.ค 67 | B7: =SUM(รายการจัดซื้อจัดจ้างปีงบ2568!I42:I51) -> 115004.6 | C7: - | D7: - | E7: =SUM(B7:D7) -> 115004.6 | F7: =SUM(E5:E7) -> 964206.84 | H7: -
A8: ม.ค 68 | B8: =SUM(รายการจัดซื้อจัดจ้างปีงบ2568!I58:I74) -> 1926264 | C8: - | D8: - | E8: =SUM(B8:D8) -> 1926264 | H8: 1860952 | I8: =E8-H8 -> 65312
A9: ก.พ 68 | B9: =SUM(รายการจัดซื้อจัดจ้างปีงบ2568!I81:I95) -> 1637913.8 | C9: - | D9: - | E9: =SUM(B9:D9) -> 1637913.8 | H9: 1334960 | I9: =E9-H9 -> 302953.78
A10: มี.ค 68 | B10: =SUM(รายการจัดซื้อจัดจ้างปีงบ2568!I102:I130) -> 2320618.8 | C10: - | D10: - | E10: =SUM(B10:D10) -> 2320618.8 | F10: =SUM(E8:E10) -> 5884796.6 | H10: 2282980 | I10: =E10-H10 -> 37638.8
A11: เม.ย 68 | B11: =SUM(รายการจัดซื้อจัดจ้างปีงบ2568!I137:I150) -> 1484854 | C11: - | D11: - | E11: =SUM(B11:D11) -> 1484854 | H11: 1496275 | I11: =E11-H11 -> -11421
A12: พ.ค 68 | B12: =SUM(รายการจัดซื้อจัดจ้างปีงบ2568!I157:I165) -> 1765616 | C12: - | D12: - | E12: =SUM(B12:D12) -> 1765616 | H12: 1816500 | I12: =E12-H12 -> -50884
A13: มิ.ย 68 | B13: =SUM(รายการจัดซื้อจัดจ้างปีงบ2568!I172:I181) -> 1567297.4 | C13: - | D13: - | E13: =SUM(B13:D13) -> 1567297.4 | F13: =SUM(E11:E13) -> 4817767.4 | H13: 1490000 | I13: =E13-H13 -> 77297.36
A14: ก.ค 68 | B14: =SUM(รายการจัดซื้อจัดจ้างปีงบ2568!I188:I212) -> 1971263.8 | C14: - | D14: - | E14: =SUM(B14:D14) -> 1971263.8 | H14: 1463575 | I14: =E14-H14 -> 507688.75
A15: ส.ค 68 | B15: =SUM(รายการจัดซื้อจัดจ้างปีงบ2568!I219:I237) -> 1301361.2 | C15: - | D15: - | E15: =SUM(B15:D15) -> 1301361.2 | H15: 1224000 | I15: =E15-H15 -> 77361.16
A16: ก.ย 68 | B16: =SUM(รายการจัดซื้อจัดจ้างปีงบ2568!I244:I263) -> 1371165.8 | C16: - | D16: - | E16: =SUM(B16:D16) -> 1371165.8 | F16: =SUM(E14:E16) -> 4643790.7 | H16: 1198200 | I16: =E16-H16 -> 172965.8
A17: รวม | B17: =SUM(B5:B16) -> 16310561 | C17: - | D17: - | E17: =SUM(E5:E16) -> 16310561 | H17: =SUM(H6:H16) -> 14641442 | I17: =SUM(I6:I16) -> 1450574.3
I18: =I17+E5+E7 -> 1669119.5
A19: ตาราง แสดงจำนวนโครงการจัดซื้อจัดจ้าง | I19: =H17+I18 -> 16310561
A20: เดือน | B20: เฉพาะเจาะจง | C20: คัดเลือก | D20: e-bidding | E20: รวม | H20: จำนวนโครงการ
A21: ต.ค 67 | B21: 5 | C21: - | D21: - | E21: =SUM(B21:D21) -> 5 | H21: -
A22: พ.ย 67 | B22: 18 | C22: - | D22: - | E22: =SUM(B22:D22) -> 18 | H22: 1
A23: ธ.ค 67 | B23: 10 | C23: - | D23: - | E23: =SUM(B23:D23) -> 10 | H23: -
A24: ม.ค 68 | B24: 17 | C24: - | D24: - | E24: =SUM(B24:D24) -> 17 | H24: 5
A25: ก.พ 68 | B25: 15 | C25: - | D25: - | E25: =SUM(B25:D25) -> 15 | H25: 4
A26: มี.ค 68 | B26: 29 | C26: - | D26: - | E26: =SUM(B26:D26) -> 29 | H26: 6
A27: เม.ย 68 | B27: 14 | C27: - | D27: - | E27: =SUM(B27:D27) -> 14 | H27: 4
A28: พ.ค 68 | B28: 9 | C28: - | D28: - | E28: =SUM(B28:D28) -> 9 | H28: 4
A29: มิ.ย 68 | B29: 10 | C29: - | D29: - | E29: =SUM(B29:D29) -> 10 | H29: 4
A30: ก.ค 68 | B30: 25 | C30: - | D30: - | E30: =SUM(B30:D30) -> 25 | H30: 4
A31: ส.ค 68 | B31: 19 | C31: - | D31: - | E31: =SUM(B31:D31) -> 19 | H31: 3
A32: ก.ย 68 | B32: 20 | C32: - | D32: - | E32: =SUM(B32:D32) -> 20 | H32: 3
A33: รวม | B33: =SUM(B21:B32) -> 191 | C33: =SUM(C21:C32) -> 0 | D33: =SUM(D21:D32) -> 0 | E33: =SUM(E21:E32) -> 191 | H33: =SUM(H22:H32) -> 38

Sheet รายการจัดซื้อจัดจ้างปีงบ2568
A1: แบบสรุปผลการดำเนินการจัดซื้อจัดจ้าง ในรอบเดือน ตุลาคม 2567
A2: (ชื่อหน่วยงาน) องค์การบริหารส่วนตำบลบิง อำเภอโนนสูง จังหวัดนครราชสีมา
B3: วันที่ 31 เดือน ตุลาคม พ.ศ. 2567 (1)
A4: ลำดับที่ (2) | C4: วงเงินที่จัดซื้อ | D4: ราคากลาง | E4: วิธีซื้อ | F4: รายชื่อผู้เสนอราคา | H4: ผู้ได้รับการคัดเลือกและราคา | J4: เหตุผลที่คัดเลือก | K4: เลขที่และวันที่ของสัญญา
B5: งานที่จัดซื้อหรือจัดจ้าง | C5: หรือจัดจ้าง (บาท) | D5: (บาท) | E5: หรือจ้าง | F5: และราคาที่เสนอ | H5: ที่ตกลงซื้อหรือจ้าง | J5: โดยสรุป | K5: หรือข้อตกลงในการซื้อหรือการจ้าง
B6: (3) | C6: (4) | D6: (5) | E6: (6) | F6: (7) | H6: (8) | J6: (9) | K6: (10)
A7: 1 | B7: จ้างเหมาบริการซ่อมแซมบำรุงรักษารถบรรทุกขยะมูลฝอย หมายเลขทะเบียน นม 88-3272 | C7: 1200 | D7: 1200 | E7: เฉพาะเจาะจง | F7: นายมานิตย์ ปล้องงูเหลือม | G7: 1200 | H7: นายมานิตย์ ปล้องงูเหลือม | I7: 1200 | J7: เสนอรายละเอียดถูกต้องครบถ้วน และราคาที่เสนออยู่ภายในงบประมาณและราคา เป็นการจ้างตาม พ.ร.บ. การจัดซื้อจัดจ้าง และการบริหารพัสดุภาครัฐ พ.ศ.2560 มาตรา 56 (2)(ข) | K7: สัญญาเลขที่ 83/2567 ลงวันที่ 17/10/2567
A8: 2 | B8: จ้างเหมาถ่ายเอกสารประจำเดือน ตุลาคม 2567 | C8: 558.4 | D8: 558.4 | E8: เฉพาะเจาะจง | F8: ร้านลัดดาวัลย์ | G8: 558.4 | H8: ร้านลัดดาวัลย์ | I8: 558.4 | J8: เสนอรายละเอียดถูกต้องครบถ้วน และราคาที่เสนออยู่ภายในงบประมาณและราคา เป็นการจ้างตาม พ.ร.บ. การจัดซื้อจัดจ้าง และการบริหารพัสดุภาครัฐ พ.ศ.2560 มาตรา 56 (2)(ข) | K8: สัญญาเลขที่ 1/2568 ลงวันที่ 1/10/2567
A9: 3 | B9: ค่าอาหารเสริม(นม) โรงเรียน สพฐ. จำนวน 5 โรงเรียน และศพด. จำนวน 2 ศูนย์ ประจำเดือน ตุลาคม 2567 ภาคเรียนที่ 1/2567 | C9: 86587.23 | D9: 86587.23 | E9: เฉพาะเจาะจง | F9: บริษัท แมรี่ แอน แดรี่ โปรดักส์ จำกัด | G9: 86587.23 | H9: บริษัท แมรี่ แอน แดรี่ โปรดักส์ จำกัด | I9: 86587.23 | J9: เสนอรายละเอียดถูกต้องครบถ้วน และราคาที่เสนออยู่ภายในงบประมาณและราคา เป็นการจ้างตาม พ.ร.บ. การจัดซื้อจัดจ้าง และการบริหารพัสดุภาครัฐ พ.ศ.2560 มาตรา 56 (2)(ข) | K9: เลขที่สัญญา 1/2568 ลงวันที่ 1/10/2567
A10: 4 | B10: ค่าบริการพื้นที่ดูแลและปรับปรุงเว็บไซต์และค่าต่อโดเมนเว็บไซต์ | C10: 9900 | D10: 9900 | E10: เฉพาะเจาะจง | F10: บริษัท พี เอ เอส.เวิลด์คอมมิวนิเคชั่น จำกัด | G10: 9900 | H10: บริษัท พี เอ เอส.เวิลด์คอมมิวนิเคชั่น จำกัด | I10: 9900 | J10: เสนอรายละเอียดถูกต้องครบถ้วน และราคาที่เสนออยู่ภายในงบประมาณและราคา เป็นการจ้างตาม พ.ร.บ. การจัดซื้อจัดจ้าง และการบริหารพัสดุภาครัฐ พ.ศ.2560 มาตรา 56 (2)(ข) | K10: เลขที่สัญญา 3/2568 ลงวันที่ 8/10/2567
A11: 5 | B11: จ้างเหมาบริการจัดเก็บขยะ 12 หมู่บ้าน จำนวน 1,059 ราย ประจำเดือน ตุลาคม 2567 | C11: 5295 | D11: 5295 | E11: เฉพาะเจาะจง | F11: นางสาวปทิตตา ตอบกลาง | G11: 5295 | H11: นางสาวปทิตตา ตอบกลาง | I11: 5295 | J11: เสนอรายละเอียดถูกต้องครบถ้วน และราคาที่เสนออยู่ภายในงบประมาณและราคา เป็นการจ้างตาม พ.ร.บ. การจัดซื้อจัดจ้าง และการบริหารพัสดุภาครัฐ พ.ศ.2560 มาตรา 56 (2)(ข) | K11: เลขที่สัญญา 3/2568 ลงวันที่ 15/10/2567 | L11: =SUM(I7:I11) -> 103540.63
A12: แบบสรุปผลการดำเนินการจัดซื้อจัดจ้าง ในรอบเดือน พฤศจิกายน 2567
A13: (ชื่อหน่วยงาน) องค์การบริหารส่วนตำบลบิง อำเภอโนนสูง จังหวัดนครราชสีมา
A14: วันที่ 29 เดือน พฤศจิกายน พ.ศ. 2567 (1)
A15: ลำดับที่ (2) | C15: วงเงินที่จัดซื้อ | D15: ราคากลาง | E15: วิธีซื้อ | F15: รายชื่อผู้เสนอราคา | H15: ผู้ได้รับการคัดเลือกและราคา | J15: เหตุผลที่คัดเลือก | K15: เลขที่และวันที่ของสัญญา
B16: งานที่จัดซื้อหรือจัดจ้าง | C16: หรือจัดจ้าง (บาท) | D16: (บาท) | E16: หรือจ้าง | F16: และราคาที่เสนอ | H16: ที่ตกลงซื้อหรือจ้าง | J16: โดยสรุป | K16: หรือข้อตกลงในการซื้อหรือการจ้าง
B17: (3) | C17: (4) | D17: (5) | E17: (6) | F17: (7) | H17: (8) | J17: (9) | K17: (10)
A18: 1 | B18: จ้างซ่อมแอร์รถยนต์ส่วนกลาง ทะเบียน ขอ 8872 | C18: 8879.93 | D18: 8879.93 | E18: เฉพาะเจาะจง | F18: บริษัทโตโยต้าไทยเย็น จำกัด | G18: 8879.93 | H18: บริษัทโตโยต้าไทยเย็น จำกัด | I18: 8879.93 | J18: เสนอรายละเอียดถูกต้องครบถ้วน และราคาที่เสนออยู่ภายในงบประมาณและราคา เป็นการจ้างตาม พ.ร.บ. การจัดซื้อจัดจ้าง และการบริหารพัสดุภาครัฐ พ.ศ.2560 มาตรา 56 (2)(ข) | K18: เลขที่สัญญา 8/2567 ลงวันที่ 6/11/2567
A19: 2 | B19: ค่าจัดซื้อยางนอกรถยนต์ หมายเลขทะเบียน ขอ 8872 จำนวน 4 เส้น | C19: 23560 | D19: 23560 | E19: เฉพาะเจาะจง | F19: บริษัท ราชสีมาศูนย์ล้อเซอร์วิส จำกัด | G19: 23560 | H19: บริษัท ราชสีมาศูนย์ล้อเซอร์วิส จำกัด | I19: 23560 | J19: เสนอรายละเอียดถูกต้องครบถ้วน และราคาที่เสนออยู่ภายในงบประมาณและราคา เป็นการจ้างตาม พ.ร.บ. การจัดซื้อจัดจ้าง และการบริหารพัสดุภาครัฐ พ.ศ.2560 มาตรา 56 (2)(ข) | K19: เลขที่สัญญา 1/2568 ลงวันที่ 5/11/2567
A20: 3 | B20: จ้างเหมาทำสื่อประชาสัมพันธ์ผลงานและกิจกรรมต่างๆ ขององค์การบริหารส่วนตำบลบิง ปีงบประมาณ 2567 (ในรูปแบบปฏิทินแขวนผนัง) | C20: 93582 | D20: 93582 | E20: เฉพาะเจาะจง | F20: ห้างหุ้นส่วนจำกัด ธงไชยวิทยา 2564 | G20: 93582 | H20: ห้างหุ้นส่วนจำกัด ธงไชยวิทยา 2564 | I20: 93582 | J20: เสนอรายละเอียดถูกต้องครบถ้วน และราคาที่เสนออยู่ภายในงบประมาณและราคา เป็นการจ้างตาม พ.ร.บ. การจัดซื้อจัดจ้าง และการบริหารพัสดุภาครัฐ พ.ศ.2560 มาตรา 56 (2)(ข) | K20: เลขที่สัญญา 1/2568 ลงวันที่ 19/11/2567
A21: 4 | B21: จัดซื้อวัสดุไฟฟ้าและวิทยุ จำนวน 5 รายการ (กองช่าง) | C21: 10895 | D21: 10895 | E21: เฉพาะเจาะจง | F21: ร้านเจริญพัชร์ | G21: 10895 | H21: ร้านเจริญพัชร์ | I21: 10895 | J21: เสนอรายละเอียดถูกต้องครบถ้วน และราคาที่เสนออยู่ภายในงบประมาณและราคา เป็นการจ้างตาม พ.ร.บ. การจัดซื้อจัดจ้าง และการบริหารพัสดุภาครัฐ พ.ศ.2560 มาตรา 56 (2)(ข) | K21: เลขที่สัญญา 2/2568 ลงวันที่ 5/11/2567
A22: 5 | B22: ค่าจัดซื้อถ้วยรางวัล โครงการสืบสานวัฒนธรรมและอนุรักษ์ประเพณีลอยกระทง ประจำปี 2567 จำนวน 7 ใบ | C22: 19650 | D22: 19650 | E22: เฉพาะเจาะจง | F22: แอนฟิลด์ สปอร์ต | G22: 19650 | H22: แอนฟิลด์ สปอร์ต | I22: 19650 | J22: เสนอรายละเอียดถูกต้องครบถ้วน และราคาที่เสนออยู่ภายในงบประมาณและราคา เป็นการจ้างตาม พ.ร.บ. การจัดซื้อจัดจ้าง และการบริหารพัสดุภาครัฐ พ.ศ.2560 มาตรา 56 (2)(ข) | K22: เลขที่สัญญา 3/2568 ลงวันที่ 11/11/2567
A23: 6 | B23: จ้างเหมาบริการซ่อมแซมบำรุงรักษารถยนต์ส่วนกลาง กธ 9624 นครราชสีมา | C23: 1630.68 | D23: 1630.68 | E23: เฉพาะเจาะจง | F23: หจก.โดโยต้าโคราช 1988 ผู้จำหน่ายโตโยต้า | G23: 1630.68 | H23: หจก.โดโยต้าโคราช 1988 ผู้จำหน่ายโตโยต้า | I23: 1630.68 | J23: เสนอรายละเอียดถูกต้องครบถ้วน และราคาที่เสนออยู่ภายในงบประมาณและราคา เป็นการจ้างตาม พ.ร.บ. การจัดซื้อจัดจ้าง และการบริหารพัสดุภาครัฐ พ.ศ.2560 มาตรา 56 (2)(ข) | K23: เลขที่สัญญา 4/2568 ลงวันที่ 1/11/2567
A24: 7 | B24: ค่าจัดซื้อวัสดุคอมพิวเตอร์ (กองคลัง) จำนวน 6 รายการ | C24: 16760 | D24: 16760 | E24: เฉพาะเจาะจง | F24: ร้านเจริญพัชร์ | G24: 16760 | H24: ร้านเจริญพัชร์ | I24: 16760 | J24: เสนอรายละเอียดถูกต้องครบถ้วน และราคาที่เสนออยู่ภายในงบประมาณและราคา เป็นการจ้างตาม พ.ร.บ. การจัดซื้อจัดจ้าง และการบริหารพัสดุภาครัฐ พ.ศ.2560 มาตรา 56 (2)(ข) | K24: เลขที่สัญญา 4/2568 ลงวันที่ 14/11/2567
A25: 8 | B25: ค่าจ้างเหมาทำป้าย โครงการสืบสานวัฒธรรมและอนุรักษ์ประเพณีลอยกระทง ประจำปี 2567 จำนวน 9 ป้าย | C25: 10224 | D25: 10224 | E25: เฉพาะเจาะจง | F25: ร้านหัวทะเลอิงค์เจ็ต | G25: 10224 | H25: ร้านหัวทะเลอิงค์เจ็ต | I25: 10224 | J25: เสนอรายละเอียดถูกต้องครบถ้วน และราคาที่เสนออยู่ภายในงบประมาณและราคา เป็นการจ้างตาม พ.ร.บ. การจัดซื้อจัดจ้าง และการบริหารพัสดุภาครัฐ พ.ศ.2560 มาตรา 56 (2)(ข) | K25: เลขที่สัญญา 7/2568 ลงวันที่ 1/11/2567
A26: 9 | B26: ค่าก่อสร้างถนน คสล. เททับถนนแอสฟัลท์ติกคอนกรีตต่อจากตัวเดิมโนนหัวช้าง พร้อมวางท่อ บ้านขนายดี หมู่ 10 | C26: 474000 | D26: 474000 | E26: เฉพาะเจาะจง | F26: บริษัท เที่ยงไทยรุ่งเรือง 2014 จำกัด | G26: 474000 | H26: บริษัท เที่ยงไทยรุ่งเรือง 2014 จำกัด | I26: 474000 | J26: เสนอรายละเอียดถูกต้องครบถ้วน และราคาที่เสนออยู่ภายในงบประมาณและราคา เป็นการจ้างตาม พ.ร.บ. การจัดซื้อจัดจ้าง และการบริหารพัสดุภาครัฐ พ.ศ.2560 มาตรา 56 (2)(ข) | K26: เลขที่สัญญา 8/2568 ลงวันที่ 26/11/2567
A27: 10 | B27: ค่าจัดซื้อวัสดุคอมพิวเตอร์ ตลับหมึก Laser Cannon 325 จำนวน 1 รายการ | C27: 2850 | D27: 2850 | E27: เฉพาะเจาะจง | F27: ร้านพัณณ์ณกร | G27: 2850 | H27: ร้านพัณณ์ณกร | I27: 2850 | J27: เสนอรายละเอียดถูกต้องครบถ้วน และราคาที่เสนออยู่ภายในงบประมาณและราคา เป็นการจ้างตาม พ.ร.บ. การจัดซื้อจัดจ้าง และการบริหารพัสดุภาครัฐ พ.ศ.2560 มาตรา 56 (2)(ข) | K27: เลขที่สัญญา 8/2568 ลงวันที่ 26/11/2567
A28: 11 | B28: จ้างเหมาบริการรถแทรกเตอร์ เพื่อเกรดปรับพื้นทืทางและถมดิน | C28: 7800 | D28: 7800 | E28: เฉพาะเจาะจง | F28: นายจรัส แจกกลาง | G28: 7800 | H28: นายจรัส แจกกลาง | I28: 7800 | J28: เสนอรายละเอียดถูกต้องครบถ้วน และราคาที่เสนออยู่ภายในงบประมาณและราคา เป็นการจ้างตาม พ.ร.บ. การจัดซื้อจัดจ้าง และการบริหารพัสดุภาครัฐ พ.ศ.2560 มาตรา 56 (2)(ข) | K28: เลขที่สัญญา 9/2568 ลงวันที่ 6/11/2567
A29: 12 | B29: ค่าวัสดุคอมพิวเตอร์ จำนวน 1 ชุด (แป้นพิมพ์+เม้าส์) | C29: 890 | D29: 890 | E29: เฉพาะเจาะจง | F29: ร้านแม็กเทคคอมพิวเตอร์ | G29: 890 | H29: ร้านแม็กเทคคอมพิวเตอร์ | I29: 890 | J29: เสนอรายละเอียดถูกต้องครบถ้วน และราคาที่เสนออยู่ภายในงบประมาณและราคา เป็นการจ้างตาม พ.ร.บ. การจัดซื้อจัดจ้าง และการบริหารพัสดุภาครัฐ พ.ศ.2560 มาตรา 56 (2)(ข) | K29: เลขที่สัญญา 9/2568 ลงวันที่ 29/11/2567
... A34: 17 | B34: ค่าจ้างเหมาซ่อมแซมรถขยะ (เปลี่ยนไดชาร์จ น้ำกลั่น ชาร์ตแบตเตอร์รี่) | C34: 8050 | D34: 8050 | E34: เฉพาะเจาะจง | F34: นายสมพงษ์ กระจายกลาง | G34: 8050 | H34: นายสมพงษ์ กระจายกลาง | I34: 8050 | J34: เสนอรายละเอียดถูกต้องครบถ้วน และราคาที่เสนออยู่ภายในงบประมาณและราคา เป็นการจ้างตาม พ.ร.บ. การจัดซื้อจัดจ้าง และการบริหารพัสดุภาครัฐ พ.ศ.2560 มาตรา 56 (2)(ข) | K34: เลขที่สัญญา 14/2568 ลงวันที่ 18/11/2567
A35: 18 | B35: จ้างเหมาบริการซ่อมแซมบำรุงรักษารถยนต์ส่วนกลาง กม 9930 นครราชสีมา (รถกู้ชีพ) | C35: 2650 | D35: 2650 | E35: เฉพาะเจาะจง | F35: นายสมพงษ์ กระจายกลาง | G35: 2650 | H35: นายสมพงษ์ กระจายกลาง | I35: 2650 | J35: เสนอรายละเอียดถูกต้องครบถ้วน และราคาที่เสนออยู่ภายในงบประมาณและราคา เป็นการจ้างตาม พ.ร.บ. การจัดซื้อจัดจ้าง และการบริหารพัสดุภาครัฐ พ.ศ.2560 มาตรา 56 (2)(ข) | K35: เลขที่สัญญา 15/2568 ลงวันที่ 29/11/2567 | L35: =SUM(I18:I35) -> 745661.61
A36: แบบสรุปผลการดำเนินการจัดซื้อจัดจ้าง ในรอบเดือน ธันวาคม 2567
A37: (ชื่อหน่วยงาน) องค์การบริหารส่วนตำบลบิง อำเภอโนนสูง จังหวัดนครราชสีมา
A38: วันที่ 30 เดือน ธันวาคม พ.ศ. 2567 (1)
A39: ลำดับที่ (2) | C39: วงเงินที่จัดซื้อ | D39: ราคากลาง | E39: วิธีซื้อ | F39: รายชื่อผู้เสนอราคา | H39: ผู้ได้รับการคัดเลือกและราคา | J39: เหตุผลที่คัดเลือก | K39: เลขที่และวันที่ของสัญญา
B40: งานที่จัดซื้อหรือจัดจ้าง | C40: หรือจัดจ้าง (บาท) | D40: (บาท) | E40: หรือจ้าง | F40: และราคาที่เสนอ | H40: ที่ตกลงซื้อหรือจ้าง | J40: โดยสรุป | K40: หรือข้อตกลงในการซื้อหรือการจ้าง
B41: (3) | C41: (4) | D41: (5) | E41: (6) | F41: (7) | H41: (8) | J41: (9) | K41: (10)
A42: 1 | B42: โครงการจัดซื้อวัสดุงานบ้านงานครัว สำนักปลัด | C42: 2136 | D42: 2136 | E42: เฉพาะเจาะจง | F42: เจริญพัชร์ | G42: 2136 | H42: เจริญพัชร์ | I42: 2136 | J42: เสนอรายละเอียดถูกต้องครบถ้วน และราคาที่เสนออยู่ภายในงบประมาณและราคา เป็นการจ้างตาม พ.ร.บ. การจัดซื้อจัดจ้าง และการบริหารพัสดุภาครัฐ พ.ศ.2560 มาตรา 56 (2)(ข) | K42: เลขที่สัญญา 10/2567 ลงวันที่ 3/12/2567
A43: 2 | B43: ค่าจัดซื้อน้ำดื่ม ณ จุดบริการประชาชนตามโครงการป้องกันและลดอุบัติเหตุทางถนนช่วงเทศกาลปีใหม่ พ.ศ. 2568 | C43: 2870 | D43: 2870 | E43: เฉพาะเจาะจง | F43: เจริญพัชร์ | G43: 2870 | H43: เจริญพัชร์ | I43: 2870 | J43: เสนอรายละเอียดถูกต้องครบถ้วน และราคาที่เสนออยู่ภายในงบประมาณและราคา เป็นการจ้างตาม พ.ร.บ. การจัดซื้อจัดจ้าง และการบริหารพัสดุภาครัฐ พ.ศ.2560 มาตรา 56 (2)(ข) | K43: เลขที่สัญญา 12/2567 ลงวันที่ 20/12/2567
A44: 3 | B44: จ้างเหมาจัดเตรียมสถานที่ ณ จุดบริการประชาชนตามโครงการป้องกันและลดอุบัติเหตุทางถนนช่วงเทศกาลปีใหม่ 2568 | C44: 2000 | D44: 2000 | E44: เฉพาะเจาะจง | F44: นายจรัส แจกกลาง | G44: 2000 | H44: นายจรัส แจกกลาง | I44: 2000 | J44: เสนอรายละเอียดถูกต้องครบถ้วน และราคาที่เสนออยู่ภายในงบประมาณและราคา เป็นการจ้างตาม พ.ร.บ. การจัดซื้อจัดจ้าง และการบริหารพัสดุภาครัฐ พ.ศ.2560 มาตรา 56 (2)(ข) | K44: เลขที่สัญญา 696/2567 ลงวันที่ 23/12/2567
A45: 4 | B45: ค่าอาหารเสริท(นม)ประจำเดือนธ.ค. 2567 ร.ร.สพฐ 5 แห่ง จำนวน 416 คน ศพด. จำนวน 2 ศูนย์ จำนวน 63 คน รวมทั้งสิ้น 479 คน | C45: 79236 | D45: 79236 | E45: เฉพาะเจาะจง | F45: บริษัท แมรี แอน แดรี โปรดักส์ จำกัด | G45: 79236 | H45: บริษัท แมรี แอน แดรี โปรดักส์ จำกัด | I45: 79236 | J45: เสนอรายละเอียดถูกต้องครบถ้วน และราคาที่เสนออยู่ภายในงบประมาณและราคา เป็นการจ้างตาม พ.ร.บ. การจัดซื้อจัดจ้าง และการบริหารพัสดุภาครัฐ พ.ศ.2560 มาตรา 56 (2)(ข) | K45: เลขที่สัญญา 1/2568 ลงวันที่ 29/12/2567
A46: 5 | B46: จ้างเหมาถ่ายเอกสารประจำเดือน ธันวาคม 2567 | C46: 377.6 | D46: 377.6 | E46: เฉพาะเจาะจง | F46: ร้านลัดดาวัลย์ | G46: 377.6 | H46: ร้านลัดดาวัลย์ | I46: 377.6 | J46: เสนอรายละเอียดถูกต้องครบถ้วน และราคาที่เสนออยู่ภายในงบประมาณและราคา เป็นการจ้างตาม พ.ร.บ. การจัดซื้อจัดจ้าง และการบริหารพัสดุภาครัฐ พ.ศ.2560 มาตรา 56 (2)(ข) | K46: สัญญาเลขที่ 16/2568 ลงวันที่ 2/12/2567
A47: 6 | B47: ค่าซ่อมแซมเครื่องคอมพิวเตอร์ เลขที่ครุภัณฑ์ 416-56-0016 จำนวน 1 รายการ | C47: 900 | D47: 900 | E47: เฉพาะเจาะจง | F47: ร้านแม็กเทคคอมพิวเตอร์ | G47: 900 | H47: ร้านแม็กเทคคอมพิวเตอร์ | I47: 900 | J47: เสนอรายละเอียดถูกต้องครบถ้วน และราคาที่เสนออยู่ภายในงบประมาณและราคา เป็นการจ้างตาม พ.ร.บ. การจัดซื้อจัดจ้าง และการบริหารพัสดุภาครัฐ พ.ศ.2560 มาตรา 56 (2)(ข) | K47: เลขที่สัญญา 17/2568 ลงวันที่ 3/12/2567
A48: 7 | B48: ค่าซ่อมคอมพิวเตอร์ กองการศึกษา จำนวน 1 รายการ | C48: 3890 | D48: 3890 | E48: เฉพาะเจาะจง | F48: ร้านแม็กเทคคอมพิวเตอร์ | G48: 3890 | H48: ร้านแม็กเทคคอมพิวเตอร์ | I48: 3890 | J48: เสนอรายละเอียดถูกต้องครบถ้วน และราคาที่เสนออยู่ภายในงบประมาณและราคา เป็นการจ้างตาม พ.ร.บ. การจัดซื้อจัดจ้าง และการบริหารพัสดุภาครัฐ พ.ศ.2560 มาตรา 56 (2)(ข) | K48: เลขที่สัญญา 18/2568 ลงวันที่ 4/12/2567
A49: 8 | B49: ค่าจ้างเหมาซ่อมแซมเครื่องคอมพิวเตอร์และเปลี่ยนเมนบอร์ดเครื่องคอมพิวเตอร์ จำนวน 1 ชุด | C49: 6500 | D49: 6500 | E49: เฉพาะเจาะจง | F49: ร้านแม็กเทคคอมพิวเตอร์ | G49: 6500 | H49: ร้านแม็กเทคคอมพิวเตอร์ | I49: 6500 | J49: เสนอรายละเอียดถูกต้องครบถ้วน และราคาที่เสนออยู่ภายในงบประมาณและราคา เป็นการจ้างตาม พ.ร.บ. การจัดซื้อจัดจ้าง และการบริหารพัสดุภาครัฐ พ.ศ.2560 มาตรา 56 (2)(ข) | K49: เลขที่สัญญา 19/2568 ลงวันที่ 4/12/2567
A50: 9 | B50: ค่าจ้างเหมาจัดเก็บขยะจำนวน 11 หมู่บ้าน ประจำเดือน ธันวาคม 2567 | C50: 4965 | D50: 4965 | E50: เฉพาะเจาะจง | F50: นางสาวปทิตตา ตอบกลาง | G50: 4965 | H50: นางสาวปทิตตา ตอบกลาง | I50: 4965 | J50: เสนอรายละเอียดถูกต้องครบถ้วน และราคาที่เสนออยู่ภายในงบประมาณและราคา เป็นการจ้างตาม พ.ร.บ. การจัดซื้อจัดจ้าง และการบริหารพัสดุภาครัฐ พ.ศ.2560 มาตรา 56 (2)(ข) | K50: เลขที่สัญญา 21/2568 ลงวันที่ 18 /12/ 2567
A51: 10 | B51: จ้างเหมาจัดทำป้ายต่างๆ ตามกิจกรรมป้องกันและลดอุบัติเหตุทางถนนช่วงเทศกาลสำคัญ (เทศกาลปีใหม่ 2568) | C51: 12130 | D51: 12130 | E51: เฉพาะเจาะจง | F51: หัวทะเลอิงค์เจ็ต | G51: 12130 | H51: หัวทะเลอิงค์เจ็ต | I51: 12130 | J51: เสนอรายละเอียดถูกต้องครบถ้วน และราคาที่เสนออยู่ภายในงบประมาณและราคา เป็นการจ้างตาม พ.ร.บ. การจัดซื้อจัดจ้าง และการบริหารพัสดุภาครัฐ พ.ศ.2560 มาตรา 56 (2)(ข) | K51: เลขที่สัญญา 21/2568 ลงวันที่ 20/12/2567 | L51: =SUM(I42:I51) -> 115004.6
A52: แบบสรุปผลการดำเนินการจัดซื้อจัดจ้าง ในรอบเดือน มกราคม 2568
A53: (ชื่อหน่วยงาน) องค์การบริหารส่วนตำบลบิง อำเภอโนนสูง จังหวัดนครราชสีมา
A54: วันที่ 31 เดือน มกราคม พ.ศ. 2568 (1)
A55: ลำดับที่ (2) | C55: วงเงินที่จัดซื้อ | D55: ราคากลาง | E55: วิธีซื้อ | F55: รายชื่อผู้เสนอราคา | H55: ผู้ได้รับการคัดเลือกและราคา | J55: เหตุผลที่คัดเลือก | K55: เลขที่และวันที่ของสัญญา
B56: งานที่จัดซื้อหรือจัดจ้าง | C56: หรือจัดจ้าง (บาท) | D56: (บาท) | E56: หรือจ้าง | F56: และราคาที่เสนอ | H56: ที่ตกลงซื้อหรือจ้าง | J56: โดยสรุป | K56: หรือข้อตกลงในการซื้อหรือการจ้าง
B57: (3) | C57: (4) | D57: (5) | E57: (6) | F57: (7) | H57: (8) | J57: (9) | K57: (10)
A58: 1 | B58: ค่าก่อสร้างถนน คสล.เททับถนนแอสฟัลท์ติกคอนกรีต ต่อจากตัวเดิมโนนหัวช้าง พร้อมวางท่อบ้านขนายดี หมู่ 10 | C58: 499600 | D58: 461037.72 | E58: เฉพาะเจาะจง | F58: บริษัท เที่ยงไทยรุ่งเรือง 2014 จำกัด | G58: 461037 | H58: บริษัท เที่ยงไทยรุ่งเรือง 2014 จำกัด | I58: 460000 | J58: เสนอรายละเอียดถูกต้องครบถ้วน และราคาที่เสนออยู่ภายในงบประมาณและราคา เป็นการจ้างตาม พ.ร.บ. การจัดซื้อจัดจ้าง และการบริหารพัสดุภาครัฐ พ.ศ.2560 มาตรา 56 (2)(ข) | K58: เลขที่สัญญา 2/2568 ลงวันที่ 15/01/2568
A59: 2 | B59: ค่าวางท่อระบายน้ำเดิมสี่แยกบ้านหมอโหน่งถึงโรงจอดรถกำนันธนกร บ้านบิง หมู่ 5 | C59: 370000 | D59: 347979.06 | E59: เฉพาะเจาะจง | F59: ห้างหุ้นส่วนจำกัด เอส พี เอส ก่อสร้าง 2022 | G59: 347000 | H59: ห้างหุ้นส่วนจำกัด เอส พี เอส ก่อสร้าง 2022 | I59: 347000 | J59: เสนอรายละเอียดถูกต้องครบถ้วน และราคาที่เสนออยู่ภายในงบประมาณและราคา เป็นการจ้างตาม พ.ร.บ. การจัดซื้อจัดจ้าง และการบริหารพัสดุภาครัฐ พ.ศ.2560 มาตรา 56 (2)(ข) | K59: เลขที่สัญญา 3/2568 ลงวันที่ 23/01/2568
A60: 3 | B60: ค่าก่อสร้างถนน คสล.บ้านสำโรง - บ้านกระสัง บ้านสำโรงกระจาย หมู่ 3 | C60: 419000 | D60: 419197.64 | E60: เฉพาะเจาะจง | F60: ห้างหุ้นส่วนจำกัด เอสพีเอส ก่อสร้าง 2022 | G60: 418500 | H60: ห้างหุ้นส่วนจำกัด เอสพีเอส ก่อสร้าง 2022 | I60: 418500 | J60: เสนอรายละเอียดถูกต้องครบถ้วน และราคาที่เสนออยู่ภายในงบประมาณและราคา เป็นการจ้างตาม พ.ร.บ. การจัดซื้อจัดจ้าง และการบริหารพัสดุภาครัฐ พ.ศ.2560 มาตรา 56 (2)(ข) | K60: เลขที่สัญญา 4/2568 ลงวันที่ 23/01/2568
A61: 4 | B61: ค่าก่อสร้างถนน คสล..จากบ้านนายปิ่น - บ้านสำโรง บ้านขามโนนันติ หมู่ 9 | C61: 372000 | D61: 371336.28 | E61: เฉพาะเจาะจง | F61: ห้างหุ้นส่วนจำกัด เอสพีเอส ก่อสร้าง 2022 | G61: 370000 | H61: ห้างหุ้นส่วนจำกัด เอสพีเอส ก่อสร้าง 2022 | I61: 370000 | J61: เสนอรายละเอียดถูกต้องครบถ้วน และราคาที่เสนออยู่ภายในงบประมาณและราคา เป็นการจ้างตาม พ.ร.บ. การจัดซื้อจัดจ้าง และการบริหารพัสดุภาครัฐ พ.ศ.2560 มาตรา 56 (2)(ข) | K61: เลขที่สัญญา 5/2568 ลงวันที่ 31/01/2568
A62: 5 | B62: ค่าก่อสร้างวางท่อระบายน้ำต่อจากตัวเดิม ซอยบ้านนายลับ เสียดกลาง เพื่อเชื่อมต่อท่อระบายน้ำสายหน้า อบต.เก่า บ้านบิงพัฒนา หมู่ 12 | C62: 200352 | D62: 176718.32 | E62: เฉพาะเจาะจง | F62: ห้างหุ้นส่วนจำกัด เอสพีเอส ก่อสร้าง 2022 | G62: 176700 | H62: ห้างหุ้นส่วนจำกัด เอสพีเอส ก่อสร้าง 2022 | I62: 176000 | J62: เสนอรายละเอียดถูกต้องครบถ้วน และราคาที่เสนออยู่ภายในงบประมาณและราคา เป็นการจ้างตาม พ.ร.บ. การจัดซื้อจัดจ้าง และการบริหารพัสดุภาครัฐ พ.ศ.2560 มาตรา 56 (2)(ข) | K62: เลขที่สัญญา 6/2568 ลงวันที่ 31/01/2568
A63: 6 | B63: จัดซ้อใบเสร็จค่าจัดเก็บขยะมูลฝอย จำนวน 4,000 ชุด | C63: 10000 | D63: 10000 | E63: เฉพาะเจาะจง | F63: ห้างหุ้นส่วนจำกัด ภูมิชัย เซอร์วิส | G63: 10000 | H63: ห้างหุ้นส่วนจำกัด ภูมิชัย เซอร์วิส | I63: 10000 | J63: เสนอรายละเอียดถูกต้องครบถ้วน และราคาที่เสนออยู่ภายในงบประมาณและราคา เป็นการจ้างตาม พ.ร.บ. การจัดซื้อจัดจ้าง และการบริหารพัสดุภาครัฐ พ.ศ.2560 มาตรา 56 (2)(ข) | K63: เลขที่สัญญา 14/2568 ลงวันที่ 3/01/2568
A64: 7 | B64: ค่าจัดซื้อครุภัณฑ์คอมพิวเตอร์เครื่องพิมพ์แบบหมึกพร้อมติดตั้งถังหมึกพิมพ์จำนวน 1 เครื่อง ให้แก่ บริษัท โชคเพิ่มพูน 2023 จำกัด | C64: 4100 | D64: 4100 | E64: เฉพาะเจาะจง | F64: บริษัท โชคเพิ่มพูน 2023 จำกัด | G64: 4100 | H64: บริษัท โชคเพิ่มพูน 2023 จำกัด | I64: 4100 | J64: เสนอรายละเอียดถูกต้องครบถ้วน และราคาที่เสนออยู่ภายในงบประมาณและราคา เป็นการจ้างตาม พ.ร.บ. การจัดซื้อจัดจ้าง และการบริหารพัสดุภาครัฐ พ.ศ.2560 มาตรา 56 (2)(ข) | K64: เลขที่สัญญา 16/2568 ลงวันที่ 20/01/2568
A65: 8 | B65: ค่าจัดซื้อครุภัณฑ์สำนักงาน (เก้าอี้) จำนวน 3 รายการ ให้แก่ บริษัท โชคเพิ่มพูน 2023 จำกัด | C65: 22000 | D65: 22000 | E65: เฉพาะเจาะจง | F65: บริษัท โชคเพิ่มพูน 2023 จำกัด | G65: 22000 | H65: บริษัท โชคเพิ่มพูน 2023 จำกัด | I65: 22000 | J65: เสนอรายละเอียดถูกต้องครบถ้วน และราคาที่เสนออยู่ภายในงบประมาณและราคา เป็นการจ้างตาม พ.ร.บ. การจัดซื้อจัดจ้าง และการบริหารพัสดุภาครัฐ พ.ศ.2560 มาตรา 56 (2)(ข) | K65: เลขที่สัญญา 17/2568 ลงวันที่ 20/01/2568
A66: 9 | B66: ค่าจัดซื้อครุภัณฑ์ไฟฟ้าและวิทยุเครื่องขยายเสียงแบบลากจูง จำนวน 1 เครื่อง ให้แก่บริษัท โชคเพิ่มพูน 2023 จำกัด | C66: 12000 | D66: 12000 | E66: เฉพาะเจาะจง | F66: บริษัท โชคเพิ่มพูน 2023 จำกัด | G66: 12000 | H66: บริษัท โชคเพิ่มพูน 2023 จำกัด | I66: 12000 | J66: เสนอรายละเอียดถูกต้องครบถ้วน และราคาที่เสนออยู่ภายในงบประมาณและราคา เป็นการจ้างตาม พ.ร.บ. การจัดซื้อจัดจ้าง และการบริหารพัสดุภาครัฐ พ.ศ.2560 มาตรา 56 (2)(ข) | K66: เลขที่สัญญา 18/2568 ลงวันที่ 20/01/2568
A67: 10 | B67: ค่าจัดซื้อครุภัณฑ์งานบ้านงานครัว จำนวน 3 รายการ ให้แก่ บริษัท โชคเพิ่มพูน 2023 จำกัด | C67: 43000 | D67: 43000 | E67: เฉพาะเจาะจง | F67: บริษัท โชคเพิ่มพูน 2023 จำกัด | G67: 43000 | H67: บริษัท โชคเพิ่มพูน 2023 จำกัด | I67: 43000 | J67: เสนอรายละเอียดถูกต้องครบถ้วน และราคาที่เสนออยู่ภายในงบประมาณและราคา เป็นการจ้างตาม พ.ร.บ. การจัดซื้อจัดจ้าง และการบริหารพัสดุภาครัฐ พ.ศ.2560 มาตรา 56 (2)(ข) | K67: เลขที่สัญญา 20/2568 ลงวันที่20/01/2568
A68: 11 | B68: ค่าจัดซื้อครุภัณฑ์คอมพิวเตอร์เครื่องพิมพ์เลเซอร์ จำนวน 1 เครื่อง ให้แก่บริษัท โชคเพิ่มพูน 2023 จำกัด | C68: 8900 | D68: 8900 | E68: เฉพาะเจาะจง | F68: บริษัท โชคเพิ่มพูน 2023 จำกัด | G68: 8900 | H68: บริษัท โชคเพิ่มพูน 2023 จำกัด | I68: 8900 | J68: เสนอรายละเอียดถูกต้องครบถ้วน และราคาที่เสนออยู่ภายในงบประมาณและราคา เป็นการจ้างตาม พ.ร.บ. การจัดซื้อจัดจ้าง และการบริหารพัสดุภาครัฐ พ.ศ.2560 มาตรา 56 (2)(ข) | K68: สัญญาเลขที่ 21/2568 ลงวันที่20/01/2568
A69: 12 | B69: ค่าจัดซื้อครุภัณฑ์คอมพิวเตอร์และเครื่องพิมพ์ จำนวน 2 รายการ ให้แก่ บริษัท โชคเพิ่มพูน 2023 จำกัด | C69: 24100 | D69: 24100 | E69: เฉพาะเจาะจง | F69: บริษัท โชคเพิ่มพูน 2023 จำกัด | G69: 24100 | H69: บริษัท โชคเพิ่มพูน 2023 จำกัด | I69: 24100 | J69: เสนอรายละเอียดถูกต้องครบถ้วน และราคาที่เสนออยู่ภายในงบประมาณและราคา เป็นการจ้างตาม พ.ร.บ. การจัดซื้อจัดจ้าง และการบริหารพัสดุภาครัฐ พ.ศ.2560 มาตรา 56 (2)(ข) | K69: เลขที่สัญญา 22/2568 ลงวันที่ 20/01/2568
... A73: 16 | B73: ภาษีแก่ประชาชนที่อยู่ในข่ายต้องเสียภาษี จำนวน 12 ป้าย | C73: 6627 | D73: 6627 | E73: เฉพาะเจาะจง | F73: หัวทะเลอิงค์เจ็ท | G73: 6627 | H73: หัวทะเลอิงค์เจ็ท | I73: 6627 | J73: เสนอรายละเอียดถูกต้องครบถ้วน และราคาที่เสนออยู่ภายในงบประมาณและราคา เป็นการจ้างตาม พ.ร.บ. การจัดซื้อจัดจ้าง และการบริหารพัสดุภาครัฐ พ.ศ.2560 มาตรา 56 (2)(ข) | K73: เลขที่สัญญา 26/2568 ลงวันที่ 23/01/2568
A74: 17 | B74: จ้างเหมาจ่ายใบเสร็จค่าขยะให้กับผู้ใช้บริการจัดเก็บขยะ ตรวจสอบปริมาณขยะ และตรวจถังขยะ 10 หมู่บ้าน จำนวน 938 ราย | C74: 4690 | D74: 4690 | E74: เฉพาะเจาะจง | F74: นางสาวปทิตตา ตอบกลาง | G74: 4690 | H74: นางสาวปทิตตา ตอบกลาง | I74: 4690 | J74: เสนอรายละเอียดถูกต้องครบถ้วน และราคาที่เสนออยู่ภายในงบประมาณและราคา เป็นการจ้างตาม พ.ร.บ. การจัดซื้อจัดจ้าง และการบริหารพัสดุภาครัฐ พ.ศ.2560 มาตรา 56 (2)(ข) | K74: เลขที่สัญญา 31/2568 ลงวันที่ 31/01/2568 | L74: =SUM(I58:I74) -> 1926264
A75: แบบสรุปผลการดำเนินการจัดซื้อจัดจ้าง ในรอบเดือน กุมภาพันธ์ 2568
A76: (ชื่อหน่วยงาน) องค์การบริหารส่วนตำบลบิง อำเภอโนนสูง จังหวัดนครราชสีมา
A77: วันที่ 28 เดือน กุมภาพันธ์ พ.ศ. 2568 (1)
A78: ลำดับที่ (2) | C78: วงเงินที่จัดซื้อ | D78: ราคากลาง | E78: วิธีซื้อ | F78: รายชื่อผู้เสนอราคา | H78: ผู้ได้รับการคัดเลือกและราคา | J78: เหตุผลที่คัดเลือก | K78: เลขที่และวันที่ของสัญญา
B79: งานที่จัดซื้อหรือจัดจ้าง | C79: หรือจัดจ้าง (บาท) | D79: (บาท) | E79: หรือจ้าง | F79: และราคาที่เสนอ | H79: ที่ตกลงซื้อหรือจ้าง | J79: โดยสรุป | K79: หรือข้อตกลงในการซื้อหรือการจ้าง
B80: (3) | C80: (4) | D80: (5) | E80: (6) | F80: (7) | H80: (8) | J80: (9) | K80: (10)
A81: 1 | B81: ค่าโครงการอาหารเสริม (นม) รร.สพฐ จำนวน 5 โรงเรียน และศูนย์พัฒนาเด็กเล็ก จำนวน 2 ศูนย์ (มี.ค - พ.ค 2568) | C81: 220686.78 | D81: 220686.78 | E81: เฉพาะเจาะจง | F81: บริษัท แมรี่ แอน แดรี โปรดักส์ จำกัด | G81: 220686.78 | H81: บริษัท แมรี่ แอน แดรี โปรดักส์ จำกัด | I81: 220686.78 | J81: เสนอรายละเอียดถูกต้องครบถ้วน และราคาที่เสนออยู่ภายในงบประมาณและราคา เป็นการจ้างตาม พ.ร.บ. การจัดซื้อจัดจ้าง และการบริหารพัสดุภาครัฐ พ.ศ.2560 มาตรา 56 (2)(ข) | K81: เลขที่สัญญา 6/2568 ลงวันที่ 28/02/2568
A82: 2 | B82: ค่าปรับปรุงซ่อมแซมถนน คสล.สายหลัก (เททับ) จากหน้าบ้านนายคง ขุนทอง ถึงแยกวัดกระสัง พร้อมลงหินคลุกไหล่ทาง บ้านกระสัง หมู่ 6 | C82: 499560 | D82: 420482.03 | E82: เฉพาะเจาะจง | F82: ห้างหุ้นส่วนจำกัด เอสพีเอส ก่อสร้าง 2022 | G82: 419000 | H82: ห้างหุ้นส่วนจำกัด เอสพีเอส ก่อสร้าง 2022 | I82: 419000 | J82: เสนอรายละเอียดถูกต้องครบถ้วน และราคาที่เสนออยู่ภายในงบประมาณและราคา เป็นการจ้างตาม พ.ร.บ. การจัดซื้อจัดจ้าง และการบริหารพัสดุภาครัฐ พ.ศ.2560 มาตรา 56 (2)(ข) | K82: เลขที่สัญญา 7/2568 ลงวันที่ 7/02/2568
A83: 3 | B83: ค่าก่อสร้างถนนดินพร้อมลงหินคลุกถนนสายบ้านเพชรสำโรง ไปถึง นานายแฉล้ม แทนกลาง บ้านเพชร หมู่ 1 | C83: 135200 | D83: 135593.9 | E83: เฉพาะเจาะจง | F83: ห้างหุ้นส่วนจำกัด ส.เจริญทรัพย์ 2022 | G83: 135593 | H83: ห้างหุ้นส่วนจำกัด ส.เจริญทรัพย์ 2022 | I83: 135000 | J83: เสนอรายละเอียดถูกต้องครบถ้วน และราคาที่เสนออยู่ภายในงบประมาณและราคา เป็นการจ้างตาม พ.ร.บ. การจัดซื้อจัดจ้าง และการบริหารพัสดุภาครัฐ พ.ศ.2560 มาตรา 56 (2)(ข) | K83: เลขที่สัญญา 8/2568 ลงวันที่ 17/02/2568
A84: 4 | B84: ค่าก่อสร้างถนนหินคลุก จากวัดบ้านเพชร ถึง บ้านนายสักชัย ชัยพูน ลงหินคลุก บ้านบุ หมู่ 4 | C84: 310200 | D84: 299547.53 | E84: เฉพาะเจาะจง | F84: ห้างหุ้นส่วนจำกัด ส.เจริญทรัพย์ 2022 | G84: 299547 | H84: ห้างหุ้นส่วนจำกัด ส.เจริญทรัพย์ 2022 | I84: 299000 | J84: เสนอรายละเอียดถูกต้องครบถ้วน และราคาที่เสนออยู่ภายในงบประมาณและราคา เป็นการจ้างตาม พ.ร.บ. การจัดซื้อจัดจ้าง และการบริหารพัสดุภาครัฐ พ.ศ.2560 มาตรา 56 (2)(ข) | K84: เลขที่สัญญา 9/2568 ลงวันที่ 17/02/2568
A85: 5 | B85: ค่าปรับปรุงซ่อมแซมถนนดินหินคลุก พร้อมเสริมดิน จากโรงงานบีเคเค - นานายนาค บ้านสำโรงกระจาย หมู่ 3 | C85: 390000 | D85: 340511.82 | E85: เฉพาะเจาะจง | F85: ห้างหุ้นส่วนจำกัด ธนกรเจริญทรัพย์ | G85: 340000 | H85: ห้างหุ้นส่วนจำกัด ธนกรเจริญทรัพย์ | I85: 340000 | J85: เสนอรายละเอียดถูกต้องครบถ้วน และราคาที่เสนออยู่ภายในงบประมาณและราคา เป็นการจ้างตาม พ.ร.บ. การจัดซื้อจัดจ้าง และการบริหารพัสดุภาครัฐ พ.ศ.2560 มาตรา 56 (2)(ข) | K85: เลขที่สัญญา 10/2568 ลงวันที่ 28/02/2568
A86: 6 | B86: โครงการจัดซื้อวัสดุสำนักงาน ตรายาง จำนวน 3 รายการ (สำนักปลัด) | C86: 1280 | D86: 1280 | E86: เฉพาะเจาะจง | F86: พัณณ์ณกร | G86: 1280 | H86: พัณณ์ณกร | I86: 1280 | J86: เสนอรายละเอียดถูกต้องครบถ้วน และราคาที่เสนออยู่ภายในงบประมาณและราคา เป็นการจ้างตาม พ.ร.บ. การจัดซื้อจัดจ้าง และการบริหารพัสดุภาครัฐ พ.ศ.2560 มาตรา 56 (2)(ข) | K86: เลขที่สัญญา 24/2568 ลงวันที่ 5/02/2568
A87: 7 | B87: ค่าชุดกีฬาโครงการกีฬาด้านยาเสพติดประจำปี 2568 จำนวนทั้งสิ้น 104,840 | C87: 104840 | D87: 104840 | E87: เฉพาะเจาะจง | F87: นางสาวกนกวรรณ แช่มช้อย | G87: 104840 | H87: นางสาวกนกวรรณ แช่มช้อย | I87: 104840 | J87: เสนอรายละเอียดถูกต้องครบถ้วน และราคาที่เสนออยู่ภายในงบประมาณและราคา เป็นการจ้างตาม พ.ร.บ. การจัดซื้อจัดจ้าง และการบริหารพัสดุภาครัฐ พ.ศ.2560 มาตรา 56 (2)(ข) | K87: เลขที่สัญญา 25/2568 ลงวันที่ 6/02/2568
A88: 8 | B88: ค่าจัดซื้ออุปกรณ์กีฬาที่ใช้ในการแข่งขันโครงการกีฬาต้านยาเสพติด ปี 2568 รวมทั้งสิ้น 12,220 | C88: 12220 | D88: 12220 | E88: เฉพาะเจาะจง | F88: นางสาวกนกวรรณ แช่มช้อย | G88: 12220 | H88: นางสาวกนกวรรณ แช่มช้อย | I88: 12220 | J88: เสนอรายละเอียดถูกต้องครบถ้วน และราคาที่เสนออยู่ภายในงบประมาณและราคา เป็นการจ้างตาม พ.ร.บ. การจัดซื้อจัดจ้าง และการบริหารพัสดุภาครัฐ พ.ศ.2560 มาตรา 56 (2)(ข) | K88: เลขที่สัญญา 26/2568 ลงวันที่ 7/02/2568
A89: 9 | B89: ค่าจัดซื้อถ้วยรางวัลสำหรับนักกีฬาโครงการกีฬาต้านยาเสพติด ปี 2568 รวมทั้งสิ้น 31,650 บาท | C89: 31650 | D89: 31650 | E89: เฉพาะเจาะจง | F89: นางสาวกนกวรรณ แช่มช้อย | G89: 31650 | H89: นางสาวกนกวรรณ แช่มช้อย | I89: 31650 | J89: เสนอรายละเอียดถูกต้องครบถ้วน และราคาที่เสนออยู่ภายในงบประมาณและราคา เป็นการจ้างตาม พ.ร.บ. การจัดซื้อจัดจ้าง และการบริหารพัสดุภาครัฐ พ.ศ.2560 มาตรา 56 (2)(ข) | K89: เลขที่สัญญา 27/2568 ลงวันที่7/02/2568
A90: 10 | B90: ค่าจัดซื้อเสื้อกีฬาสำหรับผู้บริหารท้องถิ่น ผู้ช่วยบริหาร เจ้าหน้าที่ ผู้จัดการแข่งขัน โครงการกีฬาต้านยาเสพติด ปี 2568 จำนวน 1 งานรวมทั้งสิ้น 15,675 บาท | C90: 15675 | D90: 15675 | E90: เฉพาะเจาะจง | F90: นางสาวกนกวรรณ แช่มช้อย | G90: 15675 | H90: นางสาวกนกวรรณ แช่มช้อย | I90: 15675 | J90: เสนอรายละเอียดถูกต้องครบถ้วน และราคาที่เสนออยู่ภายในงบประมาณและราคา เป็นการจ้างตาม พ.ร.บ. การจัดซื้อจัดจ้าง และการบริหารพัสดุภาครัฐ พ.ศ.2560 มาตรา 56 (2)(ข) | K90: เลขที่สัญญา 28/2568 ลงวันที่ 7/02/2568
A91: 11 | B91: โครงการจัดซื้อวัสดุอื่น (ฝาปิดส้วมทองเหลือง) (สำนักปลัด) | C91: 1740 | D91: 1740 | E91: เฉพาะเจาะจง | F91: เจริญพัชร์ | G91: 1740 | H91: เจริญพัชร์ | I91: 1740 | J91: เสนอรายละเอียดถูกต้องครบถ้วน และราคาที่เสนออยู่ภายในงบประมาณและราคา เป็นการจ้างตาม พ.ร.บ. การจัดซื้อจัดจ้าง และการบริหารพัสดุภาครัฐ พ.ศ.2560 มาตรา 56 (2)(ข) | K91: เลขที่สัญญา 28/2568 ลงวันที่ 10/02/2568
A92: 12 | B92: ค่าซ่อมเครื่องปริ้นเตอร์ จำนวน 1,050 บาท | C92: 1050 | D92: 1050 | E92: เฉพาะเจาะจง | F92: ร้านแม็กเทคคอมพิวเตอร์ | G92: 1050 | H92: ร้านแม็กเทคคอมพิวเตอร์ | I92: 1050 | J92: เสนอรายละเอียดถูกต้องครบถ้วน และราคาที่เสนออยู่ภายในงบประมาณและราคา เป็นการจ้างตาม พ.ร.บ. การจัดซื้อจัดจ้าง และการบริหารพัสดุภาครัฐ พ.ศ.2560 มาตรา 56 (2)(ข) | K92: เลขที่สัญญา 29/2568 ลงวันที่ 14/02/2568
... A94: 14 | B94: โครงการจัดซื้อวัสดุสำนักงาน จำนวน 24 รายการ (สำนักปลัด) | C94: 31887 | D94: 31887 | E94: เฉพาะเจาะจง | F94: เจริญพัชร์ | G94: 31887 | H94: เจริญพัชร์ | I94: 31887 | J94: เสนอรายละเอียดถูกต้องครบถ้วน และราคาที่เสนออยู่ภายในงบประมาณและราคา เป็นการจ้างตาม พ.ร.บ. การจัดซื้อจัดจ้าง และการบริหารพัสดุภาครัฐ พ.ศ.2560 มาตรา 56 (2)(ข) | K94: เลขที่สัญญา 29/2568 ลงวันที่ 10/02/2568
A95: 15 | B95: ค่าจ้างเหมาจ่ายใบเสร็จค่าขยะให้กับผู้ใช้บริการจัดเก็บขยะ ตรวจสอบปริมาณขยะและตรวจสอบถังขยะ 10 หมู่บ้าน จำนวน 937 ราย | C95: 4685 | D95: 4685 | E95: เฉพาะเจาะจง | F95: นางสาวปทิตตา ตอบกลาง | G95: 4685 | H95: นางสาวปทิตตา ตอบกลาง | I95: 4685 | J95: เสนอรายละเอียดถูกต้องครบถ้วน และราคาที่เสนออยู่ภายในงบประมาณและราคา เป็นการจ้างตาม พ.ร.บ. การจัดซื้อจัดจ้าง และการบริหารพัสดุภาครัฐ พ.ศ.2560 มาตรา 56 (2)(ข) | K95: เลขที่สัญญา 37/2568 ลงวันที่ 26/02/2568 | L95: =SUM(I81:I95) -> 1637913.8
A96: แบบสรุปผลการดำเนินการจัดซื้อจัดจ้าง ในรอบเดือน มีนาคม 2568
A97: (ชื่อหน่วยงาน) องค์การบริหารส่วนตำบลบิง อำเภอโนนสูง จังหวัดนครราชสีมา
A98: วันที่ 31 เดือน มีนาคม พ.ศ. 2568 (1)
A99: ลำดับที่ (2) | C99: วงเงินที่จัดซื้อ | D99: ราคากลาง | E99: วิธีซื้อ | F99: รายชื่อผู้เสนอราคา | H99: ผู้ได้รับการคัดเลือกและราคา | J99: เหตุผลที่คัดเลือก | K99: เลขที่และวันที่ของสัญญา
B100: งานที่จัดซื้อหรือจัดจ้าง | C100: หรือจัดจ้าง (บาท) | D100: (บาท) | E100: หรือจ้าง | F100: และราคาที่เสนอ | H100: ที่ตกลงซื้อหรือจ้าง | J100: โดยสรุป | K100: หรือข้อตกลงในการซื้อหรือการจ้าง
B101: (3) | C101: (4) | D101: (5) | E101: (6) | F101: (7) | H101: (8) | J101: (9) | K101: (10)
A102: 1 | B102: ค่าก่อสร้างถนน คสล.(เททับ) จากบ้านนางจวน - บ้านนางพวง ตามกลาง บ้านขามชั่งโค หมู่ 2 | C102: 266200 | D102: 254205.26 | E102: เฉพาะเจาะจง | F102: ห้างหุ้นส่วนจำกัด หงส์ร่อนการโยธา | G102: 254000 | H102: ห้างหุ้นส่วนจำกัด หงส์ร่อนการโยธา | I102: 254000 | J102: เสนอรายละเอียดถูกต้องครบถ้วน และราคาที่เสนออยู่ภายในงบประมาณและราคา เป็นการจ้างตาม พ.ร.บ. การจัดซื้อจัดจ้าง และการบริหารพัสดุภาครัฐ พ.ศ.2560 มาตรา 56 (2)(ข) | K102: เลขที่สัญญา 11/2568 ลงวันที่ 7/03/2568
A103: 2 | B103: ค่าก่อสร้างท่อระบายน้ำ จากบ้านนายอำนวย ถึง บ้านนางทวี บ้านดอนขวาง หมู่ 8 | C103: 489040 | D103: 489031.77 | E103: เฉพาะเจาะจง | F103: ห้างหุ้นส่วนจำกัด หงส์ร่อนการโยธา | G103: 489000 | H103: ห้างหุ้นส่วนจำกัด หงส์ร่อนการโยธา | I103: 489000 | J103: เสนอรายละเอียดถูกต้องครบถ้วน และราคาที่เสนออยู่ภายในงบประมาณและราคา เป็นการจ้างตาม พ.ร.บ. การจัดซื้อจัดจ้าง และการบริหารพัสดุภาครัฐ พ.ศ.2560 มาตรา 56 (2)(ข) | K103: เลขที่สัญญา 12/2568 ลงวันที่ 7/03/2568
A104: 3 | B104: ค่าก่อสร้างถนน คสล.(เททับ) จากบ้านนายยอด เนียมโพธิ์ ถึง บ้านนางสมจิตต์ บินกลาง บ้านขามชั่งโค หมู่ 2 | C104: 138600 | D104: 124556.32 | E104: เฉพาะเจาะจง | F104: ห้างหุ้นส่วนจำกัด ธนัญชนกยิ่งเจริญ | G104: 124000 | H104: ห้างหุ้นส่วนจำกัด ธนัญชนกยิ่งเจริญ | I104: 124000 | J104: เสนอรายละเอียดถูกต้องครบถ้วน และราคาที่เสนออยู่ภายในงบประมาณและราคา เป็นการจ้างตาม พ.ร.บ. การจัดซื้อจัดจ้าง และการบริหารพัสดุภาครัฐ พ.ศ.2560 มาตรา 56 (2)(ข) | K104: เลขที่สัญญา 13/2568 ลงวันที่ 7/03/2568
A105: 4 | B105: ค่าปรับปรุงซ่อมแซมถนนดินหินคลุก เหมืองใหญ่กระสังทั้งสองฝั่ง บ้านกระสัง หมู่ 6 | C105: 500000 | D105: 438582.46 | E105: เฉพาะเจาะจง | F105: บริษัท เที่ยงไทยรุ่งเรือง 2014 จำกัด | G105: 438000 | H105: บริษัท เที่ยงไทยรุ่งเรือง 2014 จำกัด | I105: 438000 | J105: เสนอรายละเอียดถูกต้องครบถ้วน และราคาที่เสนออยู่ภายในงบประมาณและราคา เป็นการจ้างตาม พ.ร.บ. การจัดซื้อจัดจ้าง และการบริหารพัสดุภาครัฐ พ.ศ.2560 มาตรา 56 (2)(ข) | K105: เลขที่สัญญา 14/2568 ลงวันที่ 14/03/2568
A106: 5 | B106: ค่าก่อสร้างถนนหินคลุก จากเหมืองใหญ่-ท่าปลู บ้านขามโนนสันติ หมู่ 9 | C106: 390000 | D106: 340511.82 | E106: เฉพาะเจาะจง | F106: ห้างหุ้นส่วนจำกัด เอสพีเอสก่อสร้าง 2022 | G106: 340500 | H106: ห้างหุ้นส่วนจำกัด เอสพีเอสก่อสร้าง 2022 | I106: 340500 | J106: เสนอรายละเอียดถูกต้องครบถ้วน และราคาที่เสนออยู่ภายในงบประมาณและราคา เป็นการจ้างตาม พ.ร.บ. การจัดซื้อจัดจ้าง และการบริหารพัสดุภาครัฐ พ.ศ.2560 มาตรา 56 (2)(ข) | K106: เลขที่สัญญา 16/2568 ลงวันที่ 28/03/2568
A107: 6 | B107: ค่าก่อสร้างถนน คสล.จากบ้านผู้ช่วยวรรณกุล ถึงสระใหม่ พร้อมวางท่อระบายน้ำ บ้านบุ หมู่ 4 | C107: 499140 | D107: 448426.95 | E107: เฉพาะเจาะจง | F107: ห้างหุ้นส่วนจำกัด ธนัญชนกยิ่งเจริญ | G107: 447400 | H107: ห้างหุ้นส่วนจำกัด ธนัญชนกยิ่งเจริญ | I107: 447400 | J107: เสนอรายละเอียดถูกต้องครบถ้วน และราคาที่เสนออยู่ภายในงบประมาณและราคา เป็นการจ้างตาม พ.ร.บ. การจัดซื้อจัดจ้าง และการบริหารพัสดุภาครัฐ พ.ศ.2560 มาตรา 56 (2)(ข) | K107: เลขที่สัญญา 15/2568 ลงวันที่ 20/03/2568
A108: 7 | B108: จัดซื้อวัสดุงานบ้านงานครัว ศพด.ขามโนนสันติ | C108: 9563 | D108: 9563 | E108: เฉพาะเจาะจง | F108: เจริญพัชร์ | G108: 9563 | H108: เจริญพัชร์ | I108: 9563 | J108: เสนอรายละเอียดถูกต้องครบถ้วน และราคาที่เสนออยู่ภายในงบประมาณและราคา เป็นการจ้างตาม พ.ร.บ. การจัดซื้อจัดจ้าง และการบริหารพัสดุภาครัฐ พ.ศ.2560 มาตรา 56 (2)(ข) | K108: เลขที่สัญญา 31/2568 ลงวันที่ 10/03/2568
...
