Workbook

Sheet วิธีจัดซื้อจัดจ้าง
A1: รายงานสรุปผลการจัดซื้อจัดจ้างของ องค์การบริหารส่วนตำบลบิง
A2: ประจำปีงบประมาณ พ.ศ.2568
B3: สรุปรายการจัดซื้อจัดจ้างจำแนกตามวิธีการจัดซื้อจัดจ้าง
B5: วิธีการจัดซื้อจัดจ้าง | C5: จำนวน | D5: งบประมาณ (บาท)
B6: วิธีประกาศเชิญชวนทั่วไป | C6: - | D6: -
B7: วิธีคัดเลือก | C7: - | D7: -
B8: วิธีเฉพาะเจาะจง (โครงการฯ) | C8: 38 | D8: 14641442
B9: วิธีเฉพาะเจาะจง | C9: 153 | D9: 1669119.5
B10: วิธีประกวดแบบ | C10: - | D10: -
B11: อื่น ๆ | C11: - | D11: -
B12: รวม | C12: =SUM(C6:C11) -> 191 | D12: =SUM(D6:D11) -> 16310561
A14: ปัญหา/อุปสรรค
A15: 1.ระบบจัดซื้อจัดจ้างภาครัฐด้วยอิเล็กทรอนิกส์ (ระบบ e-GP) ขัดข้อง ส่งผลทำให้ไม่สามารถเข้าใช้งานระบบ
A16: จัดซื้อจัดจ้างได้ตามกำหนดเวลา
A17: 2.การจัดซื้อจัดจ้างในช่วงสิ้นปีงบประมาณ มีการโอนเปลี่ยนแปลงงบประมาณและเร่งรัดการการใช้เงิน
A18: 3.ผู้รับจ้างส่งสินค้าไม่ตรงตาม TOR ส่งผลให้มีการเปลี่ยนแปลงสินค้าไปมา ก่อให้เกิดความล่าช้าและจำเป็น
A19: ต้องปรับตามเงื่อนไขของสัญญา
A20: ข้อเสนอแนะ
A21: 1.มีการเตรียมความพร้อมในการดำเนินการจัดซื้อจัดจ้างในการจัดทำขอบเขตงาน TOR หรือรายละเอียด
A22: คุณลักษณะเฉพาะพัสดุด้วยความรอบคอบเพื่อให้การดำเนินงานถูกต้องครบถ้วน เป็นไปตามระเบียบที่
A23: เกี่ยวข้องสามารถก่อหนี้ผูกพันและเบิกจ่ายได้ทันภายในปีงบประมาณ
A24: 2.เร่งรัดการดำเนินงาน โดยแจ้งให้ผู้มีหน้าที่รับผิดชอบหรือเกี่ยวข้องด้านการจัดซื้อจัดจ้างเร่งดำเนินการ
A25: เพื่อให้เป็นไปตามแผนที่กำหนด

Sheet แยกรายเดือน
A1: สรุปรายงานผลการจัดซื้อจัดจ้าง ประจำปีงบประมาณ พ.ศ. 2568
A2: (แยกรายเดือน)
A3: ตาราง แสดงวงเงินการจัดซื้อจัดจ้าง
A4: เดือน | B4: เฉพาะเจาะจง | C4: คัดเลือก | D4: e-bidding | E4: รวม (บาท) | H4: เงินงบประมาณโครงการ
A5: ต.ค 67 | B5: =SUM(รายการจัดซื้อจัดจ้างปีงบ2568!I7:I11) -> 103540.63 | C5: - | D5: - | E5: =SUM(B5:D5) -> 103540.63 | H5: -
A6: พ.ย 67 | B6: =SUM(รายการจัดซื้อจัดจ้างปีงบ2568!I18:I35) -> 745661.61 | C6: - | D6: - | E6: =SUM(B6:D6) -> 745661.61 | H6: 474000 | I6: =E6-H6 -> 271661.61
A7: ธ.ค 67 | B7: =SUM(รายการจัดซื้อจัดจ้างปีงบ2568!I42:I51) -> 115004.6 | C7: - | D7: - | E7: =SUM(B7:D7) -> 115004.6 | F7: =SUM(E5:E7) -> 964206.84 | H7: -
A8: ม.ค 68 | B8: =SUM(รายการจัดซื้อจัดจ้างปีงบ2568!I58:I74) -> 1926264 | C8: - | D8: - | E8: =SUM(B8:D8) -> 1926264 | H8: 1860952 | I8: =E8-H8 -> 65312
A9: ก.พ 68 | B9: =SUM(รายการจัดซื้อจัดจ้างปีงบ2568!I81:I95) -> 1637913.8 | C9: - | D9: - | E9: =SUM(B9:D9) -> 1637913.8 | H9: 1334960 | I9: =E9-H9 -> 302953.78
A10: มี.ค 68 | B10: =SUM(รายการจัดซื้อจัดจ้างปีงบ2568!I102:I130) -> 2320618.8 | C10: - | D10: - | E10: =SUM(B10:D10) -> 2320618.8 | F10: =SUM(E8:E10) -> 5884796.6 | H10: 2282980 | I10: =E10-H10 -> 37638.8
A11: เม.ย 68 | B11: =SUM(รายการจัดซื้อจัดจ้างปีงบ2568!I137:I150) -> 1484854 | C11: - | D11: - | E11: =SUM(B11:D11) -> 1484854 | H11: 1496275 | I11: =E11-H11 -> -11421
A12: พ.ค 68 | B12: =SUM(รายการจัดซื้อจัดจ้างปีงบ2568!I157:I165) -> 1765616 | C12: - | D12: - | E12: =SUM(B12:D12) -> 1765616 | H12: 1816500 | I12: =E12-H12 -> -50884
A13: มิ.ย 68 | B13: =SUM(รายการจัดซื้อจัดจ้างปีงบ2568!I172:I181) -> 1567297.4 | C13: - | D13: - | E13: =SUM(B13:D13) -> 1567297.4 | F13: =SUM(E11:E13) -> 4817767.4 | H13: 1490000 | I13: =E13-H13 -> 77297.36
A14: ก.ค 68 | B14: =SUM(รายการจัดซื้อจัดจ้างปีงบ2568!I188:I212) -> 1971263.8 | C14: - | D14: - | E14: =SUM(B14:D14) -> 1971263.8 | H14: 1463575 | I14: =E14-H14 -> 507688.75
A15: ส.ค 68 | B15: =SUM(รายการจัดซื้อจัดจ้างปีงบ2568!I219:I237) -> 1301361.2 | C15: - | D15: - | E15: =SUM(B15:D15) -> 1301361.2 | H15: 1224000 | I15: =E15-H15 -> 77361.16
A16: ก.ย 68 | B16: =SUM(รายการจัดซื้อจัดจ้างปีงบ2568!I244:I263) -> 1371165.8 | C16: - | D16: - | E16: =SUM(B16:D16) -> 1371165.8 | F16: =SUM(E14:E16) -> 4643790.7 | H16: 1198200 | I16: =E16-H16 -> 172965.8
A17: รวม | B17: =SUM(B5:B16) -> 16310561 | C17: - | D17: - | E17: =SUM(E5:E16) -> 16310561 | H17: =SUM(H6:H16) -> 14641442 | I17: =SUM(I6:I16) -> 1450574.3
I18: =I17+E5+E7 -> 1669119.5
A19: ตาราง แสดงจำนวนโครงการจัดซื้อจัดจ้าง | I19: =H17+I18 -> 16310561
A20: เดือน | B20: เฉพาะเจาะจง | C20: คัดเลือก | D20: e-bidding | E20: รวม | H20: จำนวนโครงการ
A21: ต.ค 67 | B21: 5 | C21: - | D21: - | E21: =SUM(B21:D21) -> 5 | H21: -
A22: พ.ย 67 | B22: 18 | C22: - | D22: - | E22: =SUM(B22:D22) -> 18 | H22: 1
A23: ธ.ค 67 | B23: 10 | C23: - | D23: - | E23: =SUM(B23:D23) -> 10 | H23: -
A24: ม.ค 68 | B24: 17 | C24: - | D24: - | E24: =SUM(B24:D24) -> 17 | H24: 5
A25: ก.พ 68 | B25: 15 | C25: - | D25: - | E25: =SUM(B25:D25) -> 15 | H25: 4
A26: มี.ค 68 | B26: 29 | C26: - | D26: - | E26: =SUM(B26:D26) -> 29 | H26: 6
A27: เม.ย 68 | B27: 14 | C27: - | D27: - | E27: =SUM(B27:D27) -> 14 | H27: 4
A28: พ.ค 68 | B28: 9 | C28: - | D28: - | E28: =SUM(B28:D28) -> 9 | H28: 4
A29: มิ.ย 68 | B29: 10 | C29: - | D29: - | E29: =SUM(B29:D29) -> 10 | H29: 4
A30: ก.ค 68 | B30: 25 | C30: - | D30: - | E30: =SUM(B30:D30) -> 25 | H30: 4
A31: ส.ค 68 | B31: 19 | C31: - | D31: - | E31: =SUM(B31:D31) -> 19 | H31: 3
A32: ก.ย 68 | B32: 20 | C32: - | D32: - | E32: =SUM(B32:D32) -> 20 | H32: 3
A33: รวม | B33: =SUM(B21:B32) -> 191 | C33: =SUM(C21:C32) -> 0 | D33: =SUM(D21:D32) -> 0 | E33: =SUM(E21:E32) -> 191 | H33: =SUM(H22:H32) -> 38

Sheet รายการจัดซื้อจัดจ้างปีงบ2568
A1: แบบสรุปผลการดำเนินการจัดซื้อจัดจ้าง ในรอบเดือน ตุลาคม 2567
A2: (ชื่อหน่วยงาน) องค์การบริหารส่วนตำบลบิง อำเภอโนนสูง จังหวัดนครราชสีมา
B3: วันที่ 31 เดือน ตุลาคม พ.ศ. 2567 (1)
A4: ลำดับที่ (2) | C4: วงเงินที่จัดซื้อ | D4: ราคากลาง | E4: วิธีซื้อ | F4: รายชื่อผู้เสนอราคา | H4: ผู้ได้รับการคัดเลือกและราคา | J4: เหตุผลที่คัดเลือก | K4: เลขที่และวันที่ของสัญญา
B5: งานที่จัดซื้อหรือจัดจ้าง | C5: หรือจัดจ้าง (บาท) | D5: (บาท) | E5: หรือจ้าง | F5: และราคาที่เสนอ | H5: ที่ตกลงซื้อหรือจ้าง | J5: โดยสรุป | K5: หรือข้อตกลงในการซื้อหรือการจ้าง
B6: (3) | C6: (4) | D6: (5) | E6: (6) | F6: (7) | H6: (8) | J6: (9) | K6: (10)
A7: 1 | B7: จ้างเหมาบริการซ่อมแซมบำรุงรักษารถบรรทุกขยะมูลฝอย หมายเลขทะเบียน นม 88-3272 | C7: 1200 | D7: 1200 | E7: เฉพาะเจาะจง | F7: นายมานิตย์ ปล้องงูเหลือม | G7: 1200 | H7: นายมานิตย์ ปล้องงูเหลือม | I7: 1200 | J7: เสนอรายละเอียดถูกต้องครบถ้วน และราคาที่เสนออยู่ภายในงบประมาณและราคา เป็นการจ้างตาม พ.ร.บ. การจัดซื้อจัดจ้าง และการบริหารพัสดุภาครัฐ พ.ศ.2560 มาตรา 56 (2)(ข) | K7: สัญญาเลขที่ 83/2567 ลงวันที่ 17/10/2567
A8: 2 | B8: จ้างเหมาถ่ายเอกสารประจำเดือน ตุลาคม 2567 | C8: 558.4 | D8: 558.4 | E8: เฉพาะเจาะจง | F8: ร้านลัดดาวัลย์ | G8: 558.4 | H8: ร้านลัดดาวัลย์ | I8: 558.4 | J8: เสนอรายละเอียดถูกต้องครบถ้วน และราคาที่เสนออยู่ภายในงบประมาณและราคา เป็นการจ้างตาม พ.ร.บ. การจัดซื้อจัดจ้าง และการบริหารพัสดุภาครัฐ พ.ศ.2560 มาตรา 56 (2)(ข) | K8: สัญญาเลขที่ 1/2568 ลงวันที่ 1/10/2567
A9: 3 | B9: ค่าอาหารเสริม(นม) โรงเรียน สพฐ. จำนวน 5 โรงเรียน และศพด. จำนวน 2 ศูนย์ ประจำเดือน ตุลาคม 2567 ภาคเรียนที่ 1/2567 | C9: 86587.23 | D9: 86587.23 | E9: เฉพาะเจาะจง | F9: บริษัท แมรี่ แอน แดรี่ โปรดักส์ จำกัด | G9: 86587.23 | H9: บริษัท แมรี่ แอน แดรี่ โปรดักส์ จำกัด | I9: 86587.23 | J9: เสนอรายละเอียดถูกต้องครบถ้วน และราคาที่เสนออยู่ภายในงบประมาณและราคา เป็นการจ้างตาม พ.ร.บ. การจัดซื้อจัดจ้าง และการบริหารพัสดุภาครัฐ พ.ศ.2560 มาตรา 56 (2)(ข) | K9: เลขที่สัญญา 1/2568 ลงวันที่ 1/10/2567
A10: 4 | B10: ค่าบริการพื้นที่ดูแลและปรับปรุงเว็บไซต์และค่าต่อโดเมนเว็บไซต์ | C10: 9900 | D10: 9900 | E10: เฉพาะเจาะจง | F10: บริษัท พี เอ เอส.เวิลด์คอมมิวนิเคชั่น จำกัด | G10: 9900 | H10: บริษัท พี เอ เอส.เวิลด์คอมมิวนิเคชั่น จำกัด | I10: 9900 | J10: เสนอรายละเอียดถูกต้องครบถ้วน และราคาที่เสนออยู่ภายในงบประมาณและราคา เป็นการจ้างตาม พ.ร.บ. การจัดซื้อจัดจ้าง และการบริหารพัสดุภาครัฐ พ.ศ.2560 มาตรา 56 (2)(ข) | K10: เลขที่สัญญา 3/2568 ลงวันที่ 8/10/2567
A11: 5 | B11: จ้างเหมาบริการจัดเก็บขยะ 12 หมู่บ้าน จำนวน 1,059 ราย ประจำเดือน ตุลาคม 2567 | C11: 5295 | D11: 5295 | E11: เฉพาะเจาะจง | F11: นางสาวปทิตตา ตอบกลาง | G11: 5295 | H11: นางสาวปทิตตา ตอบกลาง | I11: 5295 | J11: เสนอรายละเอียดถูกต้องครบถ้วน และราคาที่เสนออยู่ภายในงบประมาณและราคา เป็นการจ้างตาม พ.ร.บ. การจัดซื้อจัดจ้าง และการบริหารพัสดุภาครัฐ พ.ศ.2560 มาตรา 56 (2)(ข) | K11: เลขที่สัญญา 3/2568 ลงวันที่ 15/10/2567 | L11: =SUM(I7:I11) -> 103540.63
A12: แบบสรุปผลการดำเนินการจัดซื้อจัดจ้าง ในรอบเดือน พฤศจิกายน 2567
A13: (ชื่อหน่วยงาน) องค์การบริหารส่วนตำบลบิง อำเภอโนนสูง จังหวัดนครราชสีมา
A14: วันที่ 29 เดือน พฤศจิกายน พ.ศ. 2567 (1)
A15: ลำดับที่ (2) | C15: วงเงินที่จัดซื้อ | D15: ราคากลาง | E15: วิธีซื้อ | F15: รายชื่อผู้เสนอราคา | H15: ผู้ได้รับการคัดเลือกและราคา | J15: เหตุผลที่คัดเลือก | K15: เลขที่และวันที่ของสัญญา
B16: งานที่จัดซื้อหรือจัดจ้าง | C16: หรือจัดจ้าง (บาท) | D16: (บาท) | E16: หรือจ้าง | F16: และราคาที่เสนอ | H16: ที่ตกลงซื้อหรือจ้าง | J16: โดยสรุป | K16: หรือข้อตกลงในการซื้อหรือการจ้าง
B17: (3) | C17: (4) | D17: (5) | E17: (6) | F17: (7) | H17: (8) | J17: (9) | K17: (10)
A18: 1 | B18: จ้างซ่อมแอร์รถยนต์ส่วนกลาง ทะเบียน ขอ 8872 | C18: 8879.93 | D18: 8879.93 | E18: เฉพาะเจาะจง | F18: บริษัทโตโยต้าไทยเย็น จำกัด | G18: 8879.93 | H18: บริษัทโตโยต้าไทยเย็น จำกัด | I18: 8879.93 | J18: เสนอรายละเอียดถูกต้องครบถ้วน และราคาที่เสนออยู่ภายในงบประมาณและราคา เป็นการจ้างตาม พ.ร.บ. การจัดซื้อจัดจ้าง และการบริหารพัสดุภาครัฐ พ.ศ.2560 มาตรา 56 (2)(ข) | K18: เลขที่สัญญา 8/2567 ลงวันที่ 6/11/2567
A19: 2 | B19: ค่าจัดซื้อยางนอกรถยนต์ หมายเลขทะเบียน ขอ 8872 จำนวน 4 เส้น | C19: 23560 | D19: 23560 | E19: เฉพาะเจาะจง | F19: บริษัท ราชสีมาศูนย์ล้อเซอร์วิส จำกัด | G19: 23560 | H19: บริษัท ราชสีมาศูนย์ล้อเซอร์วิส จำกัด | I19: 23560 | J19: เสนอรายละเอียดถูกต้องครบถ้วน และราคาที่เสนออยู่ภายในงบประมาณและราคา เป็นการจ้างตาม พ.ร.บ. การจัดซื้อจัดจ้าง และการบริหารพัสดุภาครัฐ พ.ศ.2560 มาตรา 56 (2)(ข) | K19: เลขที่สัญญา 1/2568 ลงวันที่ 5/11/2567
A20: 3 | B20: จ้างเหมาทำสื่อประชาสัมพันธ์ผลงานและกิจกรรมต่างๆ ขององค์การบริหารส่วนตำบลบิง ปีงบประมาณ 2567 (ในรูปแบบปฏิทินแขวนผนัง) | C20: 93582 | D20: 93582 | E20: เฉพาะเจาะจง | F20: ห้างหุ้นส่วนจำกัด ธงไชยวิทยา 2564 | G20: 93582 | H20: ห้างหุ้นส่วนจำกัด ธงไชยวิทยา 2564 | I20: 93582 | J20: เสนอรายละเอียดถูกต้องครบถ้วน และราคาที่เสนออยู่ภายในงบประมาณและราคา เป็นการจ้างตาม พ.ร.บ. การจัดซื้อจัดจ้าง และการบริหารพัสดุภาครัฐ พ.ศ.2560 มาตรา 56 (2)(ข) | K20: เลขที่สัญญา 1/2568 ลงวันที่ 19/11/2567
A21: 4 | B21: จัดซื้อวัสดุไฟฟ้าและวิทยุ จำนวน 5 รายการ (กองช่าง) | C21: 10895 | D21: 10895 | E21: เฉพาะเจาะจง | F21: ร้านเจริญพัชร์ | G21: 10895 | H21: ร้านเจริญพัชร์ | I21: 10895 | J21: เสนอรายละเอียดถูกต้องครบถ้วน และราคาที่เสนออยู่ภายในงบประมาณและราคา เป็นการจ้างตาม พ.ร.บ. การจัดซื้อจัดจ้าง และการบริหารพัสดุภาครัฐ พ.ศ.2560 มาตรา 56 (2)(ข) | K21: เลขที่สัญญา 2/2568 ลงวันที่ 5/11/2567
A22: 5 | B22: ค่าจัดซื้อถ้วยรางวัล โครงการสืบสานวัฒนธรรมและอนุรักษ์ประเพณีลอยกระทง ประจำปี 2567 จำนวน 7 ใบ | C22: 19650 | D22: 19650 | E22: เฉพาะเจาะจง | F22: แอนฟิลด์ สปอร์ต | G22: 19650 | H22: แอนฟิลด์ สปอร์ต | I22: 19650 | J22: เสนอรายละเอียดถูกต้องครบถ้วน และราคาที่เสนออยู่ภายในงบประมาณและราคา เป็นการจ้างตาม พ.ร.บ. การจัดซื้อจัดจ้าง และการบริหารพัสดุภาครัฐ พ.ศ.2560 มาตรา 56 (2)(ข) | K22: เลขที่สัญญา 3/2568 ลงวันที่ 11/11/2567
A23: 6 | B23: จ้างเหมาบริการซ่อมแซมบำรุงรักษารถยนต์ส่วนกลาง กธ 9624 นครราชสีมา | C23: 1630.68 | D23: 1630.68 | E23: เฉพาะเจาะจง | F23: หจก.โดโยต้าโคราช 1988 ผู้จำหน่ายโตโยต้า | G23: 1630.68 | H23: หจก.โดโยต้าโคราช 1988 ผู้จำหน่ายโตโยต้า | I23: 1630.68 | J23: เสนอรายละเอียดถูกต้องครบถ้วน และราคาที่เสนออยู่ภายในงบประมาณและราคา เป็นการจ้างตาม พ.ร.บ. การจัดซื้อจัดจ้าง และการบริหารพัสดุภาครัฐ พ.ศ.2560 มาตรา 56 (2)(ข) | K23: เลขที่สัญญา 4/2568 ลงวันที่ 1/11/2567
A24: 7 | B24: ค่าจัดซื้อวัสดุคอมพิวเตอร์ (กองคลัง) จำนวน 6 รายการ | C24: 16760 | D24: 16760 | E24: เฉพาะเจาะจง | F24: ร้านเจริญพัชร์ | G24: 16760 | H24: ร้านเจริญพัชร์ | I24: 16760 | J24: เสนอรายละเอียดถูกต้องครบถ้วน และราคาที่เสนออยู่ภายในงบประมาณและราคา เป็นการจ้างตาม พ.ร.บ. การจัดซื้อจัดจ้าง และการบริหารพัสดุภาครัฐ พ.ศ.2560 มาตรา 56 (2)(ข) | K24: เลขที่สัญญา 4/2568 ลงวันที่ 14/11/2567
A25: 8 | B25: ค่าจ้างเหมาทำป้าย โครงการสืบสานวัฒธรรมและอนุรักษ์ประเพณีลอยกระทง ประจำปี 2567 จำนวน 9 ป้าย | C25: 10224 | D25: 10224 | E25: เฉพาะเจาะจง | F25: ร้านหัวทะเลอิงค์เจ็ต | G25: 10224 | H25: ร้านหัวทะเลอิงค์เจ็ต | I25: 10224 | J25: เสนอรายละเอียดถูกต้องครบถ้วน และราคาที่เสนออยู่ภายในงบประมาณและราคา เป็นการจ้างตาม พ.ร.บ. การจัดซื้อจัดจ้าง และการบริหารพัสดุภาครัฐ พ.ศ.2560 มาตรา 56 (2)(ข) | K25: เลขที่สัญญา 7/2568 ลงวันที่ 1/11/2567
A26: 9 | B26: ค่าก่อสร้างถนน คสล. เททับถนนแอสฟัลท์ติกคอนกรีตต่อจากตัวเดิมโนนหัวช้าง พร้อมวางท่อ บ้านขนายดี หมู่ 10 | C26: 474000 | D26: 474000 | E26: เฉพาะเจาะจง | F26: บริษัท เที่ยงไทยรุ่งเรือง 2014 จำกัด | G26: 474000 | H26: บริษัท เที่ยงไทยรุ่งเรือง 2014 จำกัด | I26: 474000 | J26: เสนอรายละเอียดถูกต้องครบถ้วน และราคาที่เสนออยู่ภายในงบประมาณและราคา เป็นการจ้างตาม พ.ร.บ. การจัดซื้อจัดจ้าง และการบริหารพัสดุภาครัฐ พ.ศ.2560 มาตรา 56 (2)(ข) | K26: เลขที่สัญญา 8/2568 ลงวันที่ 26/11/2567
A27: 10 | B27: ค่าจัดซื้อวัสดุคอมพิวเตอร์ ตลับหมึก Laser Cannon 325 จำนวน 1 รายการ | C27: 2850 | D27: 2850 | E27: เฉพาะเจาะจง | F27: ร้านพัณณ์ณกร | G27: 2850 | H27: ร้านพัณณ์ณกร | I27: 2850 | J27: เสนอรายละเอียดถูกต้องครบถ้วน และราคาที่เสนออยู่ภายในงบประมาณและราคา เป็นการจ้างตาม พ.ร.บ. การจัดซื้อจัดจ้าง และการบริหารพัสดุภาครัฐ พ.ศ.2560 มาตรา 56 (2)(ข) | K27: เลขที่สัญญา 8/2568 ลงวันที่ 26/11/2567
A28: 11 | B28: จ้างเหมาบริการรถแทรกเตอร์ เพื่อเกรดปรับพื้นทืทางและถมดิน | C28: 7800 | D28: 7800 | E28: เฉพาะเจาะจง | F28: นายจรัส แจกกลาง | G28: 7800 | H28: นายจรัส แจกกลาง | I28: 7800 | J28: เสนอรายละเอียดถูกต้องครบถ้วน และราคาที่เสนออยู่ภายในงบประมาณและราคา เป็นการจ้างตาม พ.ร.บ. การจัดซื้อจัดจ้าง และการบริหารพัสดุภาครัฐ พ.ศ.2560 มาตรา 56 (2)(ข) | K28: เลขที่สัญญา 9/2568 ลงวันที่ 6/11/2567
A29: 12 | B29: ค่าวัสดุคอมพิวเตอร์ จำนวน 1 ชุด (แป้นพิมพ์+เม้าส์) | C29: 890 | D29: 890 | E29: เฉพาะเจาะจง | F29: ร้านแม็กเทคคอมพิวเตอร์ | G29: 890 | H29: ร้านแม็กเทคคอมพิวเตอร์ | I29: 890 | J29: เสนอรายละเอียดถูกต้องครบถ้วน และราคาที่เสนออยู่ภายในงบประมาณและราคา เป็นการจ้างตาม พ.ร.บ. การจัดซื้อจัดจ้าง และการบริหารพัสดุภาครัฐ พ.ศ.2560 มาตรา 56 (2)(ข) | K29: เลขที่สัญญา 9/2568 ลงวันที่ 29/11/2567
... A34: 17 | B34: ค่าจ้างเหมาซ่อมแซมรถขยะ (เปลี่ยนไดชาร์จ น้ำกลั่น ชาร์ตแบตเตอร์รี่) | C34: 8050 | D34: 8050 | E34: เฉพาะเจาะจง | F34: นายสมพงษ์ กระจายกลาง | G34: 8050 | H34: นายสมพงษ์ กระจายกลาง | I34: 8050 | J34: เสนอรายละเอียดถูกต้องครบถ้วน และราคาที่เสนออยู่ภายในงบประมาณและราคา เป็นการจ้างตาม พ.ร.บ. การจัดซื้อจัดจ้าง และการบริหารพัสดุภาครัฐ พ.ศ.2560 มาตรา 56 (2)(ข) | K34: เลขที่สัญญา 14/2568 ลงวันที่ 18/11/2567
A35: 18 | B35: จ้างเหมาบริการซ่อมแซมบำรุงรักษารถยนต์ส่วนกลาง กม 9930 นครราชสีมา (รถกู้ชีพ) | C35: 2650 | D35: 2650 | E35: เฉพาะเจาะจง | F35: นายสมพงษ์ กระจายกลาง | G35: 2650 | H35: นายสมพงษ์ กระจายกลาง | I35: 2650 | J35: เสนอรายละเอียดถูกต้องครบถ้วน และราคาที่เสนออยู่ภายในงบประมาณและราคา เป็นการจ้างตาม พ.ร.บ. การจัดซื้อจัดจ้าง และการบริหารพัสดุภาครัฐ พ.ศ.2560 มาตรา 56 (2)(ข) | K35: เลขที่สัญญา 15/2568 ลงวันที่ 29/11/2567 | L35: =SUM(I18:I35) -> 745661.61
A36: แบบสรุปผลการดำเนินการจัดซื้อจัดจ้าง ในรอบเดือน ธันวาคม 2567
A37: (ชื่อหน่วยงาน) องค์การบริหารส่วนตำบลบิง อำเภอโนนสูง จังหวัดนครราชสีมา
A38: วันที่ 30 เดือน ธันวาคม พ.ศ. 2567 (1)
A39: ลำดับที่ (2) | C39: วงเงินที่จัดซื้อ | D39: ราคากลาง | E39: วิธีซื้อ | F39: รายชื่อผู้เสนอราคา | H39: ผู้ได้รับการคัดเลือกและราคา | J39: เหตุผลที่คัดเลือก | K39: เลขที่และวันที่ของสัญญา
B40: งานที่จัดซื้อหรือจัดจ้าง | C40: หรือจัดจ้าง (บาท) | D40: (บาท) | E40: หรือจ้าง | F40: และราคาที่เสนอ | H40: ที่ตกลงซื้อหรือจ้าง | J40: โดยสรุป | K40: หรือข้อตกลงในการซื้อหรือการจ้าง
B41: (3) | C41: (4) | D41: (5) | E41: (6) | F41: (7) | H41: (8) | J41: (9) | K41: (10)
A42: 1 | B42: โครงการจัดซื้อวัสดุงานบ้านงานครัว สำนักปลัด | C42: 2136 | D42: 2136 | E42: เฉพาะเจาะจง | F42: เจริญพัชร์ | G42: 2136 | H42: เจริญพัชร์ | I42: 2136 | J42: เสนอรายละเอียดถูกต้องครบถ้วน และราคาที่เสนออยู่ภายในงบประมาณและราคา เป็นการจ้างตาม พ.ร.บ. การจัดซื้อจัดจ้าง และการบริหารพัสดุภาครัฐ พ.ศ.2560 มาตรา 56 (2)(ข) | K42: เลขที่สัญญา 10/2567 ลงวันที่ 3/12/2567
A43: 2 | B43: ค่าจัดซื้อน้ำดื่ม ณ จุดบริการประชาชนตามโครงการป้องกันและลดอุบัติเหตุทางถนนช่วงเทศกาลปีใหม่ พ.ศ. 2568 | C43: 2870 | D43: 2870 | E43: เฉพาะเจาะจง | F43: เจริญพัชร์ | G43: 2870 | H43: เจริญพัชร์ | I43: 2870 | J43: เสนอรายละเอียดถูกต้องครบถ้วน และราคาที่เสนออยู่ภายในงบประมาณและราคา เป็นการจ้างตาม พ.ร.บ. การจัดซื้อจัดจ้าง และการบริหารพัสดุภาครัฐ พ.ศ.2560 มาตรา 56 (2)(ข) | K43: เลขที่สัญญา 12/2567 ลงวันที่ 20/12/2567
A44: 3 | B44: จ้างเหมาจัดเตรียมสถานที่ ณ จุดบริการประชาชนตามโครงการป้องกันและลดอุบัติเหตุทางถนนช่วงเทศกาลปีใหม่ 2568 | C44: 2000 | D44: 2000 | E44: เฉพาะเจาะจง | F44: นายจรัส แจกกลาง | G44: 2000 | H44: นายจรัส แจกกลาง | I44: 2000 | J44: เสนอรายละเอียดถูกต้องครบถ้วน และราคาที่เสนออยู่ภายในงบประมาณและราคา เป็นการจ้างตาม พ.ร.บ. การจัดซื้อจัดจ้าง และการบริหารพัสดุภาครัฐ พ.ศ.2560 มาตรา 56 (2)(ข) | K44: เลขที่สัญญา 696/2567 ลงวันที่ 23/12/2567
...
